{"text_format":"1","workbook":"xlsx","n_sheets":4,"sheets":["【別表Excelの使い方】","⑤ラインリスト(その他)","⑥別表(その他)","⑦別表(手入力用)"],"not_rendered":{"charts":2,"images":0,"macros":1,"external_links":0,"defined_names":4,"comments":0,"pivot_tables":0},"unopened":[],"bounds":{"document_bytes":16777216,"sheet_cells":100000,"rows_first":2000,"rows_last":500,"rows_between":2000,"halvings":0,"cell_chars":16384,"cell_head_chars":4096},"cells_cut":0,"cells_raw":0,"read":"whole","date_system":"1900"}

{"sheet":"【別表Excelの使い方】","index":0,"n_rows":0,"n_cols":0,"rows_kept":0,"cut":false,"hidden":false,"merged":[]}

{"sheet":"⑤ラインリスト(その他)","index":1,"n_rows":106,"n_cols":17,"rows_kept":106,"cut":false,"hidden":false,"merged":[]}
["●●●●における（　                                 　）発生状況"]
[]
[null,"※1 園児、児童、生徒、利用者、入院患者、職員　　※2 病棟、ユニット、クラス等　　"]
[null,null,null,null,null,null,null,null,null,"症状（ 1：あり、0：なし ）"]
["No.","区分※1 ","氏名","年齢","性別","所属※2","発症日",null,null,null,null,null,null,null,"備　考（受診状況等）"]
["例","利用者","茨城　花子",82,"女","2階東ユニット","2024-04-01",1,1,0,0,1,1,0,"4/2 抗原検査にて陽性判明",null,"年代"]
[1,null,null,null,null,null,null,null,null,null,null,null,null,null,null,null,{"$f":"ROUNDDOWN(D7,-1)","v":0}]
[2,null,null,null,null,null,null,null,null,null,null,null,null,null,null,null,{"$f":"ROUNDDOWN(D8,-1)","v":0}]
[3,null,null,null,null,null,null,null,null,null,null,null,null,null,null,null,0]
[4,null,null,null,null,null,null,null,null,null,null,null,null,null,null,null,0]
[5,null,null,null,null,null,null,null,null,null,null,null,null,null,null,null,0]
[6,null,null,null,null,null,null,null,null,null,null,null,null,null,null,null,0]
[7,null,null,null,null,null,null,null,null,null,null,null,null,null,null,null,0]
[8,null,null,null,null,null,null,null,null,null,null,null,null,null,null,null,0]
[9,null,null,null,null,null,null,null,null,null,null,null,null,null,null,null,0]
[10,null,null,null,null,null,null,null,null,null,null,null,null,null,null,null,0]
[11,null,null,null,null,null,null,null,null,null,null,null,null,null,null,null,0]
[12,null,null,null,null,null,null,null,null,null,null,null,null,null,null,null,0]
[13,null,null,null,null,null,null,null,null,null,null,null,null,null,null,null,0]
[14,null,null,null,null,null,null,null,null,null,null,null,null,null,null,null,0]
[15,null,null,null,null,null,null,null,null,null,null,null,null,null,null,null,0]
[16,null,null,null,null,null,null,null,null,null,null,null,null,null,null,null,0]
[17,null,null,null,null,null,null,null,null,null,null,null,null,null,null,null,0]
[18,null,null,null,null,null,null,null,null,null,null,null,null,null,null,null,0]
[19,null,null,null,null,null,null,null,null,null,null,null,null,null,null,null,0]
[20,null,null,null,null,null,null,null,null,null,null,null,null,null,null,null,0]
[21,null,null,null,null,null,null,null,null,null,null,null,null,null,null,null,0]
[22,null,null,null,null,null,null,null,null,null,null,null,null,null,null,null,0]
[23,null,null,null,null,null,null,null,null,null,null,null,null,null,null,null,0]
[24,null,null,null,null,null,null,null,null,null,null,null,null,null,null,null,0]
[25,null,null,null,null,null,null,null,null,null,null,null,null,null,null,null,0]
[26,null,null,null,null,null,null,null,null,null,null,null,null,null,null,null,0]
[27,null,null,null,null,null,null,null,null,null,null,null,null,null,null,null,0]
[28,null,null,null,null,null,null,null,null,null,null,null,null,null,null,null,0]
[29,null,null,null,null,null,null,null,null,null,null,null,null,null,null,null,0]
[30,null,null,null,null,null,null,null,null,null,null,null,null,null,null,null,0]
[31,null,null,null,null,null,null,null,null,null,null,null,null,null,null,null,0]
[32,null,null,null,null,null,null,null,null,null,null,null,null,null,null,null,0]
[33,null,null,null,null,null,null,null,null,null,null,null,null,null,null,null,0]
[34,null,null,null,null,null,null,null,null,null,null,null,null,null,null,null,0]
[35,null,null,null,null,null,null,null,null,null,null,null,null,null,null,null,0]
[36,null,null,null,null,null,null,null,null,null,null,null,null,null,null,null,0]
[37,null,null,null,null,null,null,null,null,null,null,null,null,null,null,null,0]
[38,null,null,null,null,null,null,null,null,null,null,null,null,null,null,null,0]
[39,null,null,null,null,null,null,null,null,null,null,null,null,null,null,null,0]
[40,null,null,null,null,null,null,null,null,null,null,null,null,null,null,null,0]
[41,null,null,null,null,null,null,null,null,null,null,null,null,null,null,null,0]
[42,null,null,null,null,null,null,null,null,null,null,null,null,null,null,null,0]
[43,null,null,null,null,null,null,null,null,null,null,null,null,null,null,null,0]
[44,null,null,null,null,null,null,null,null,null,null,null,null,null,null,null,0]
[45,null,null,null,null,null,null,null,null,null,null,null,null,null,null,null,0]
[46,null,null,null,null,null,null,null,null,null,null,null,null,null,null,null,0]
[47,null,null,null,null,null,null,null,null,null,null,null,null,null,null,null,0]
[48,null,null,null,null,null,null,null,null,null,null,null,null,null,null,null,0]
[49,null,null,null,null,null,null,null,null,null,null,null,null,null,null,null,0]
[50,null,null,null,null,null,null,null,null,null,null,null,null,null,null,null,0]
[51,null,null,null,null,null,null,null,null,null,null,null,null,null,null,null,0]
[52,null,null,null,null,null,null,null,null,null,null,null,null,null,null,null,0]
[53,null,null,null,null,null,null,null,null,null,null,null,null,null,null,null,0]
[54,null,null,null,null,null,null,null,null,null,null,null,null,null,null,null,0]
[55,null,null,null,null,null,null,null,null,null,null,null,null,null,null,null,0]
[56,null,null,null,null,null,null,null,null,null,null,null,null,null,null,null,0]
[57,null,null,null,null,null,null,null,null,null,null,null,null,null,null,null,0]
[58,null,null,null,null,null,null,null,null,null,null,null,null,null,null,null,0]
[59,null,null,null,null,null,null,null,null,null,null,null,null,null,null,null,0]
[60,null,null,null,null,null,null,null,null,null,null,null,null,null,null,null,0]
[61,null,null,null,null,null,null,null,null,null,null,null,null,null,null,null,0]
[62,null,null,null,null,null,null,null,null,null,null,null,null,null,null,null,0]
[63,null,null,null,null,null,null,null,null,null,null,null,null,null,null,null,0]
[64,null,null,null,null,null,null,null,null,null,null,null,null,null,null,null,0]
[65,null,null,null,null,null,null,null,null,null,null,null,null,null,null,null,0]
[66,null,null,null,null,null,null,null,null,null,null,null,null,null,null,null,{"$f":"ROUNDDOWN(D72,-1)","v":0}]
[67,null,null,null,null,null,null,null,null,null,null,null,null,null,null,null,0]
[68,null,null,null,null,null,null,null,null,null,null,null,null,null,null,null,0]
[69,null,null,null,null,null,null,null,null,null,null,null,null,null,null,null,0]
[70,null,null,null,null,null,null,null,null,null,null,null,null,null,null,null,0]
[71,null,null,null,null,null,null,null,null,null,null,null,null,null,null,null,0]
[72,null,null,null,null,null,null,null,null,null,null,null,null,null,null,null,0]
[73,null,null,null,null,null,null,null,null,null,null,null,null,null,null,null,0]
[74,null,null,null,null,null,null,null,null,null,null,null,null,null,null,null,0]
[75,null,null,null,null,null,null,null,null,null,null,null,null,null,null,null,0]
[76,null,null,null,null,null,null,null,null,null,null,null,null,null,null,null,0]
[77,null,null,null,null,null,null,null,null,null,null,null,null,null,null,null,0]
[78,null,null,null,null,null,null,null,null,null,null,null,null,null,null,null,0]
[79,null,null,null,null,null,null,null,null,null,null,null,null,null,null,null,0]
[80,null,null,null,null,null,null,null,null,null,null,null,null,null,null,null,0]
[81,null,null,null,null,null,null,null,null,null,null,null,null,null,null,null,0]
[82,null,null,null,null,null,null,null,null,null,null,null,null,null,null,null,0]
[83,null,null,null,null,null,null,null,null,null,null,null,null,null,null,null,0]
[84,null,null,null,null,null,null,null,null,null,null,null,null,null,null,null,0]
[85,null,null,null,null,null,null,null,null,null,null,null,null,null,null,null,0]
[86,null,null,null,null,null,null,null,null,null,null,null,null,null,null,null,0]
[87,null,null,null,null,null,null,null,null,null,null,null,null,null,null,null,0]
[88,null,null,null,null,null,null,null,null,null,null,null,null,null,null,null,0]
[89,null,null,null,null,null,null,null,null,null,null,null,null,null,null,null,0]
[90,null,null,null,null,null,null,null,null,null,null,null,null,null,null,null,0]
[91,null,null,null,null,null,null,null,null,null,null,null,null,null,null,null,0]
[92,null,null,null,null,null,null,null,null,null,null,null,null,null,null,null,0]
[93,null,null,null,null,null,null,null,null,null,null,null,null,null,null,null,0]
[94,null,null,null,null,null,null,null,null,null,null,null,null,null,null,null,0]
[95,null,null,null,null,null,null,null,null,null,null,null,null,null,null,null,0]
[96,null,null,null,null,null,null,null,null,null,null,null,null,null,null,null,0]
[97,null,null,null,null,null,null,null,null,null,null,null,null,null,null,null,0]
[98,null,null,null,null,null,null,null,null,null,null,null,null,null,null,null,0]
[99,null,null,null,null,null,null,null,null,null,null,null,null,null,null,null,0]
[100,null,null,null,null,null,null,null,null,null,null,null,null,null,null,null,0]

{"sheet":"⑥別表(その他)","index":2,"n_rows":54,"n_cols":24,"rows_kept":54,"cut":false,"hidden":false,"merged":[]}
["所属・発症日別発生状況",null,{"$f":"V13","v":0}]
["所属／日付",null,null,null,null,null,null,null,null,null,null,null,null,null,null,null,null,null,null,null,null,"計"]
[null,{"$f":"COUNTIFS('⑤ラインリスト(その他)'!$F:$F,'⑥別表(その他)'!$A3,'⑤ラインリスト(その他)'!$G:$G,'⑥別表(その他)'!B$2)","v":0},{"$f":"COUNTIFS('⑤ラインリスト(その他)'!$F:$F,'⑥別表(その他)'!$A3,'⑤ラインリスト(その他)'!$G:$G,'⑥別表(その他)'!C$2)","v":0},{"$f":"COUNTIFS('⑤ラインリスト(その他)'!$F:$F,'⑥別表(その他)'!$A3,'⑤ラインリスト(その他)'!$G:$G,'⑥別表(その他)'!D$2)","v":0},{"$f":"COUNTIFS('⑤ラインリスト(その他)'!$F:$F,'⑥別表(その他)'!$A3,'⑤ラインリスト(その他)'!$G:$G,'⑥別表(その他)'!E$2)","v":0},{"$f":"COUNTIFS('⑤ラインリスト(その他)'!$F:$F,'⑥別表(その他)'!$A3,'⑤ラインリスト(その他)'!$G:$G,'⑥別表(その他)'!F$2)","v":0},{"$f":"COUNTIFS('⑤ラインリスト(その他)'!$F:$F,'⑥別表(その他)'!$A3,'⑤ラインリスト(その他)'!$G:$G,'⑥別表(その他)'!G$2)","v":0},{"$f":"COUNTIFS('⑤ラインリスト(その他)'!$F:$F,'⑥別表(その他)'!$A3,'⑤ラインリスト(その他)'!$G:$G,'⑥別表(その他)'!H$2)","v":0},{"$f":"COUNTIFS('⑤ラインリスト(その他)'!$F:$F,'⑥別表(その他)'!$A3,'⑤ラインリスト(その他)'!$G:$G,'⑥別表(その他)'!I$2)","v":0},{"$f":"COUNTIFS('⑤ラインリスト(その他)'!$F:$F,'⑥別表(その他)'!$A3,'⑤ラインリスト(その他)'!$G:$G,'⑥別表(その他)'!J$2)","v":0},{"$f":"COUNTIFS('⑤ラインリスト(その他)'!$F:$F,'⑥別表(その他)'!$A3,'⑤ラインリスト(その他)'!$G:$G,'⑥別表(その他)'!K$2)","v":0},{"$f":"COUNTIFS('⑤ラインリスト(その他)'!$F:$F,'⑥別表(その他)'!$A3,'⑤ラインリスト(その他)'!$G:$G,'⑥別表(その他)'!L$2)","v":0},{"$f":"COUNTIFS('⑤ラインリスト(その他)'!$F:$F,'⑥別表(その他)'!$A3,'⑤ラインリスト(その他)'!$G:$G,'⑥別表(その他)'!M$2)","v":0},{"$f":"COUNTIFS('⑤ラインリスト(その他)'!$F:$F,'⑥別表(その他)'!$A3,'⑤ラインリスト(その他)'!$G:$G,'⑥別表(その他)'!N$2)","v":0},{"$f":"COUNTIFS('⑤ラインリスト(その他)'!$F:$F,'⑥別表(その他)'!$A3,'⑤ラインリスト(その他)'!$G:$G,'⑥別表(その他)'!O$2)","v":0},{"$f":"COUNTIFS('⑤ラインリスト(その他)'!$F:$F,'⑥別表(その他)'!$A3,'⑤ラインリスト(その他)'!$G:$G,'⑥別表(その他)'!P$2)","v":0},{"$f":"COUNTIFS('⑤ラインリスト(その他)'!$F:$F,'⑥別表(その他)'!$A3,'⑤ラインリスト(その他)'!$G:$G,'⑥別表(その他)'!Q$2)","v":0},{"$f":"COUNTIFS('⑤ラインリスト(その他)'!$F:$F,'⑥別表(その他)'!$A3,'⑤ラインリスト(その他)'!$G:$G,'⑥別表(その他)'!R$2)","v":0},{"$f":"COUNTIFS('⑤ラインリスト(その他)'!$F:$F,'⑥別表(その他)'!$A3,'⑤ラインリスト(その他)'!$G:$G,'⑥別表(その他)'!S$2)","v":0},{"$f":"COUNTIFS('⑤ラインリスト(その他)'!$F:$F,'⑥別表(その他)'!$A3,'⑤ラインリスト(その他)'!$G:$G,'⑥別表(その他)'!T$2)","v":0},{"$f":"COUNTIFS('⑤ラインリスト(その他)'!$F:$F,'⑥別表(その他)'!$A3,'⑤ラインリスト(その他)'!$G:$G,'⑥別表(その他)'!U$2)","v":0},{"$f":"SUM(B3:P3)","v":0}]
[null,{"$f":"COUNTIFS('⑤ラインリスト(その他)'!$F:$F,'⑥別表(その他)'!$A4,'⑤ラインリスト(その他)'!$G:$G,'⑥別表(その他)'!B$2)","v":0},{"$f":"COUNTIFS('⑤ラインリスト(その他)'!$F:$F,'⑥別表(その他)'!$A4,'⑤ラインリスト(その他)'!$G:$G,'⑥別表(その他)'!C$2)","v":0},{"$f":"COUNTIFS('⑤ラインリスト(その他)'!$F:$F,'⑥別表(その他)'!$A4,'⑤ラインリスト(その他)'!$G:$G,'⑥別表(その他)'!D$2)","v":0},{"$f":"COUNTIFS('⑤ラインリスト(その他)'!$F:$F,'⑥別表(その他)'!$A4,'⑤ラインリスト(その他)'!$G:$G,'⑥別表(その他)'!E$2)","v":0},{"$f":"COUNTIFS('⑤ラインリスト(その他)'!$F:$F,'⑥別表(その他)'!$A4,'⑤ラインリスト(その他)'!$G:$G,'⑥別表(その他)'!F$2)","v":0},{"$f":"COUNTIFS('⑤ラインリスト(その他)'!$F:$F,'⑥別表(その他)'!$A4,'⑤ラインリスト(その他)'!$G:$G,'⑥別表(その他)'!G$2)","v":0},{"$f":"COUNTIFS('⑤ラインリスト(その他)'!$F:$F,'⑥別表(その他)'!$A4,'⑤ラインリスト(その他)'!$G:$G,'⑥別表(その他)'!H$2)","v":0},{"$f":"COUNTIFS('⑤ラインリスト(その他)'!$F:$F,'⑥別表(その他)'!$A4,'⑤ラインリスト(その他)'!$G:$G,'⑥別表(その他)'!I$2)","v":0},{"$f":"COUNTIFS('⑤ラインリスト(その他)'!$F:$F,'⑥別表(その他)'!$A4,'⑤ラインリスト(その他)'!$G:$G,'⑥別表(その他)'!J$2)","v":0},{"$f":"COUNTIFS('⑤ラインリスト(その他)'!$F:$F,'⑥別表(その他)'!$A4,'⑤ラインリスト(その他)'!$G:$G,'⑥別表(その他)'!K$2)","v":0},{"$f":"COUNTIFS('⑤ラインリスト(その他)'!$F:$F,'⑥別表(その他)'!$A4,'⑤ラインリスト(その他)'!$G:$G,'⑥別表(その他)'!L$2)","v":0},{"$f":"COUNTIFS('⑤ラインリスト(その他)'!$F:$F,'⑥別表(その他)'!$A4,'⑤ラインリスト(その他)'!$G:$G,'⑥別表(その他)'!M$2)","v":0},{"$f":"COUNTIFS('⑤ラインリスト(その他)'!$F:$F,'⑥別表(その他)'!$A4,'⑤ラインリスト(その他)'!$G:$G,'⑥別表(その他)'!N$2)","v":0},{"$f":"COUNTIFS('⑤ラインリスト(その他)'!$F:$F,'⑥別表(その他)'!$A4,'⑤ラインリスト(その他)'!$G:$G,'⑥別表(その他)'!O$2)","v":0},{"$f":"COUNTIFS('⑤ラインリスト(その他)'!$F:$F,'⑥別表(その他)'!$A4,'⑤ラインリスト(その他)'!$G:$G,'⑥別表(その他)'!P$2)","v":0},{"$f":"COUNTIFS('⑤ラインリスト(その他)'!$F:$F,'⑥別表(その他)'!$A4,'⑤ラインリスト(その他)'!$G:$G,'⑥別表(その他)'!Q$2)","v":0},{"$f":"COUNTIFS('⑤ラインリスト(その他)'!$F:$F,'⑥別表(その他)'!$A4,'⑤ラインリスト(その他)'!$G:$G,'⑥別表(その他)'!R$2)","v":0},{"$f":"COUNTIFS('⑤ラインリスト(その他)'!$F:$F,'⑥別表(その他)'!$A4,'⑤ラインリスト(その他)'!$G:$G,'⑥別表(その他)'!S$2)","v":0},{"$f":"COUNTIFS('⑤ラインリスト(その他)'!$F:$F,'⑥別表(その他)'!$A4,'⑤ラインリスト(その他)'!$G:$G,'⑥別表(その他)'!T$2)","v":0},{"$f":"COUNTIFS('⑤ラインリスト(その他)'!$F:$F,'⑥別表(その他)'!$A4,'⑤ラインリスト(その他)'!$G:$G,'⑥別表(その他)'!U$2)","v":0},{"$f":"SUM(B4:P4)","v":0}]
[null,{"$f":"COUNTIFS('⑤ラインリスト(その他)'!$F:$F,'⑥別表(その他)'!$A5,'⑤ラインリスト(その他)'!$G:$G,'⑥別表(その他)'!B$2)","v":0},{"$f":"COUNTIFS('⑤ラインリスト(その他)'!$F:$F,'⑥別表(その他)'!$A5,'⑤ラインリスト(その他)'!$G:$G,'⑥別表(その他)'!C$2)","v":0},{"$f":"COUNTIFS('⑤ラインリスト(その他)'!$F:$F,'⑥別表(その他)'!$A5,'⑤ラインリスト(その他)'!$G:$G,'⑥別表(その他)'!D$2)","v":0},{"$f":"COUNTIFS('⑤ラインリスト(その他)'!$F:$F,'⑥別表(その他)'!$A5,'⑤ラインリスト(その他)'!$G:$G,'⑥別表(その他)'!E$2)","v":0},{"$f":"COUNTIFS('⑤ラインリスト(その他)'!$F:$F,'⑥別表(その他)'!$A5,'⑤ラインリスト(その他)'!$G:$G,'⑥別表(その他)'!F$2)","v":0},{"$f":"COUNTIFS('⑤ラインリスト(その他)'!$F:$F,'⑥別表(その他)'!$A5,'⑤ラインリスト(その他)'!$G:$G,'⑥別表(その他)'!G$2)","v":0},{"$f":"COUNTIFS('⑤ラインリスト(その他)'!$F:$F,'⑥別表(その他)'!$A5,'⑤ラインリスト(その他)'!$G:$G,'⑥別表(その他)'!H$2)","v":0},{"$f":"COUNTIFS('⑤ラインリスト(その他)'!$F:$F,'⑥別表(その他)'!$A5,'⑤ラインリスト(その他)'!$G:$G,'⑥別表(その他)'!I$2)","v":0},{"$f":"COUNTIFS('⑤ラインリスト(その他)'!$F:$F,'⑥別表(その他)'!$A5,'⑤ラインリスト(その他)'!$G:$G,'⑥別表(その他)'!J$2)","v":0},{"$f":"COUNTIFS('⑤ラインリスト(その他)'!$F:$F,'⑥別表(その他)'!$A5,'⑤ラインリスト(その他)'!$G:$G,'⑥別表(その他)'!K$2)","v":0},{"$f":"COUNTIFS('⑤ラインリスト(その他)'!$F:$F,'⑥別表(その他)'!$A5,'⑤ラインリスト(その他)'!$G:$G,'⑥別表(その他)'!L$2)","v":0},{"$f":"COUNTIFS('⑤ラインリスト(その他)'!$F:$F,'⑥別表(その他)'!$A5,'⑤ラインリスト(その他)'!$G:$G,'⑥別表(その他)'!M$2)","v":0},{"$f":"COUNTIFS('⑤ラインリスト(その他)'!$F:$F,'⑥別表(その他)'!$A5,'⑤ラインリスト(その他)'!$G:$G,'⑥別表(その他)'!N$2)","v":0},{"$f":"COUNTIFS('⑤ラインリスト(その他)'!$F:$F,'⑥別表(その他)'!$A5,'⑤ラインリスト(その他)'!$G:$G,'⑥別表(その他)'!O$2)","v":0},{"$f":"COUNTIFS('⑤ラインリスト(その他)'!$F:$F,'⑥別表(その他)'!$A5,'⑤ラインリスト(その他)'!$G:$G,'⑥別表(その他)'!P$2)","v":0},{"$f":"COUNTIFS('⑤ラインリスト(その他)'!$F:$F,'⑥別表(その他)'!$A5,'⑤ラインリスト(その他)'!$G:$G,'⑥別表(その他)'!Q$2)","v":0},{"$f":"COUNTIFS('⑤ラインリスト(その他)'!$F:$F,'⑥別表(その他)'!$A5,'⑤ラインリスト(その他)'!$G:$G,'⑥別表(その他)'!R$2)","v":0},{"$f":"COUNTIFS('⑤ラインリスト(その他)'!$F:$F,'⑥別表(その他)'!$A5,'⑤ラインリスト(その他)'!$G:$G,'⑥別表(その他)'!S$2)","v":0},{"$f":"COUNTIFS('⑤ラインリスト(その他)'!$F:$F,'⑥別表(その他)'!$A5,'⑤ラインリスト(その他)'!$G:$G,'⑥別表(その他)'!T$2)","v":0},{"$f":"COUNTIFS('⑤ラインリスト(その他)'!$F:$F,'⑥別表(その他)'!$A5,'⑤ラインリスト(その他)'!$G:$G,'⑥別表(その他)'!U$2)","v":0},0]
[null,{"$f":"COUNTIFS('⑤ラインリスト(その他)'!$F:$F,'⑥別表(その他)'!$A6,'⑤ラインリスト(その他)'!$G:$G,'⑥別表(その他)'!B$2)","v":0},{"$f":"COUNTIFS('⑤ラインリスト(その他)'!$F:$F,'⑥別表(その他)'!$A6,'⑤ラインリスト(その他)'!$G:$G,'⑥別表(その他)'!C$2)","v":0},{"$f":"COUNTIFS('⑤ラインリスト(その他)'!$F:$F,'⑥別表(その他)'!$A6,'⑤ラインリスト(その他)'!$G:$G,'⑥別表(その他)'!D$2)","v":0},{"$f":"COUNTIFS('⑤ラインリスト(その他)'!$F:$F,'⑥別表(その他)'!$A6,'⑤ラインリスト(その他)'!$G:$G,'⑥別表(その他)'!E$2)","v":0},{"$f":"COUNTIFS('⑤ラインリスト(その他)'!$F:$F,'⑥別表(その他)'!$A6,'⑤ラインリスト(その他)'!$G:$G,'⑥別表(その他)'!F$2)","v":0},{"$f":"COUNTIFS('⑤ラインリスト(その他)'!$F:$F,'⑥別表(その他)'!$A6,'⑤ラインリスト(その他)'!$G:$G,'⑥別表(その他)'!G$2)","v":0},{"$f":"COUNTIFS('⑤ラインリスト(その他)'!$F:$F,'⑥別表(その他)'!$A6,'⑤ラインリスト(その他)'!$G:$G,'⑥別表(その他)'!H$2)","v":0},{"$f":"COUNTIFS('⑤ラインリスト(その他)'!$F:$F,'⑥別表(その他)'!$A6,'⑤ラインリスト(その他)'!$G:$G,'⑥別表(その他)'!I$2)","v":0},{"$f":"COUNTIFS('⑤ラインリスト(その他)'!$F:$F,'⑥別表(その他)'!$A6,'⑤ラインリスト(その他)'!$G:$G,'⑥別表(その他)'!J$2)","v":0},{"$f":"COUNTIFS('⑤ラインリスト(その他)'!$F:$F,'⑥別表(その他)'!$A6,'⑤ラインリスト(その他)'!$G:$G,'⑥別表(その他)'!K$2)","v":0},{"$f":"COUNTIFS('⑤ラインリスト(その他)'!$F:$F,'⑥別表(その他)'!$A6,'⑤ラインリスト(その他)'!$G:$G,'⑥別表(その他)'!L$2)","v":0},{"$f":"COUNTIFS('⑤ラインリスト(その他)'!$F:$F,'⑥別表(その他)'!$A6,'⑤ラインリスト(その他)'!$G:$G,'⑥別表(その他)'!M$2)","v":0},{"$f":"COUNTIFS('⑤ラインリスト(その他)'!$F:$F,'⑥別表(その他)'!$A6,'⑤ラインリスト(その他)'!$G:$G,'⑥別表(その他)'!N$2)","v":0},{"$f":"COUNTIFS('⑤ラインリスト(その他)'!$F:$F,'⑥別表(その他)'!$A6,'⑤ラインリスト(その他)'!$G:$G,'⑥別表(その他)'!O$2)","v":0},{"$f":"COUNTIFS('⑤ラインリスト(その他)'!$F:$F,'⑥別表(その他)'!$A6,'⑤ラインリスト(その他)'!$G:$G,'⑥別表(その他)'!P$2)","v":0},{"$f":"COUNTIFS('⑤ラインリスト(その他)'!$F:$F,'⑥別表(その他)'!$A6,'⑤ラインリスト(その他)'!$G:$G,'⑥別表(その他)'!Q$2)","v":0},{"$f":"COUNTIFS('⑤ラインリスト(その他)'!$F:$F,'⑥別表(その他)'!$A6,'⑤ラインリスト(その他)'!$G:$G,'⑥別表(その他)'!R$2)","v":0},{"$f":"COUNTIFS('⑤ラインリスト(その他)'!$F:$F,'⑥別表(その他)'!$A6,'⑤ラインリスト(その他)'!$G:$G,'⑥別表(その他)'!S$2)","v":0},{"$f":"COUNTIFS('⑤ラインリスト(その他)'!$F:$F,'⑥別表(その他)'!$A6,'⑤ラインリスト(その他)'!$G:$G,'⑥別表(その他)'!T$2)","v":0},{"$f":"COUNTIFS('⑤ラインリスト(その他)'!$F:$F,'⑥別表(その他)'!$A6,'⑤ラインリスト(その他)'!$G:$G,'⑥別表(その他)'!U$2)","v":0},0]
[null,{"$f":"COUNTIFS('⑤ラインリスト(その他)'!$F:$F,'⑥別表(その他)'!$A7,'⑤ラインリスト(その他)'!$G:$G,'⑥別表(その他)'!B$2)","v":0},{"$f":"COUNTIFS('⑤ラインリスト(その他)'!$F:$F,'⑥別表(その他)'!$A7,'⑤ラインリスト(その他)'!$G:$G,'⑥別表(その他)'!C$2)","v":0},{"$f":"COUNTIFS('⑤ラインリスト(その他)'!$F:$F,'⑥別表(その他)'!$A7,'⑤ラインリスト(その他)'!$G:$G,'⑥別表(その他)'!D$2)","v":0},{"$f":"COUNTIFS('⑤ラインリスト(その他)'!$F:$F,'⑥別表(その他)'!$A7,'⑤ラインリスト(その他)'!$G:$G,'⑥別表(その他)'!E$2)","v":0},{"$f":"COUNTIFS('⑤ラインリスト(その他)'!$F:$F,'⑥別表(その他)'!$A7,'⑤ラインリスト(その他)'!$G:$G,'⑥別表(その他)'!F$2)","v":0},{"$f":"COUNTIFS('⑤ラインリスト(その他)'!$F:$F,'⑥別表(その他)'!$A7,'⑤ラインリスト(その他)'!$G:$G,'⑥別表(その他)'!G$2)","v":0},{"$f":"COUNTIFS('⑤ラインリスト(その他)'!$F:$F,'⑥別表(その他)'!$A7,'⑤ラインリスト(その他)'!$G:$G,'⑥別表(その他)'!H$2)","v":0},{"$f":"COUNTIFS('⑤ラインリスト(その他)'!$F:$F,'⑥別表(その他)'!$A7,'⑤ラインリスト(その他)'!$G:$G,'⑥別表(その他)'!I$2)","v":0},{"$f":"COUNTIFS('⑤ラインリスト(その他)'!$F:$F,'⑥別表(その他)'!$A7,'⑤ラインリスト(その他)'!$G:$G,'⑥別表(その他)'!J$2)","v":0},{"$f":"COUNTIFS('⑤ラインリスト(その他)'!$F:$F,'⑥別表(その他)'!$A7,'⑤ラインリスト(その他)'!$G:$G,'⑥別表(その他)'!K$2)","v":0},{"$f":"COUNTIFS('⑤ラインリスト(その他)'!$F:$F,'⑥別表(その他)'!$A7,'⑤ラインリスト(その他)'!$G:$G,'⑥別表(その他)'!L$2)","v":0},{"$f":"COUNTIFS('⑤ラインリスト(その他)'!$F:$F,'⑥別表(その他)'!$A7,'⑤ラインリスト(その他)'!$G:$G,'⑥別表(その他)'!M$2)","v":0},{"$f":"COUNTIFS('⑤ラインリスト(その他)'!$F:$F,'⑥別表(その他)'!$A7,'⑤ラインリスト(その他)'!$G:$G,'⑥別表(その他)'!N$2)","v":0},{"$f":"COUNTIFS('⑤ラインリスト(その他)'!$F:$F,'⑥別表(その他)'!$A7,'⑤ラインリスト(その他)'!$G:$G,'⑥別表(その他)'!O$2)","v":0},{"$f":"COUNTIFS('⑤ラインリスト(その他)'!$F:$F,'⑥別表(その他)'!$A7,'⑤ラインリスト(その他)'!$G:$G,'⑥別表(その他)'!P$2)","v":0},{"$f":"COUNTIFS('⑤ラインリスト(その他)'!$F:$F,'⑥別表(その他)'!$A7,'⑤ラインリスト(その他)'!$G:$G,'⑥別表(その他)'!Q$2)","v":0},{"$f":"COUNTIFS('⑤ラインリスト(その他)'!$F:$F,'⑥別表(その他)'!$A7,'⑤ラインリスト(その他)'!$G:$G,'⑥別表(その他)'!R$2)","v":0},{"$f":"COUNTIFS('⑤ラインリスト(その他)'!$F:$F,'⑥別表(その他)'!$A7,'⑤ラインリスト(その他)'!$G:$G,'⑥別表(その他)'!S$2)","v":0},{"$f":"COUNTIFS('⑤ラインリスト(その他)'!$F:$F,'⑥別表(その他)'!$A7,'⑤ラインリスト(その他)'!$G:$G,'⑥別表(その他)'!T$2)","v":0},{"$f":"COUNTIFS('⑤ラインリスト(その他)'!$F:$F,'⑥別表(その他)'!$A7,'⑤ラインリスト(その他)'!$G:$G,'⑥別表(その他)'!U$2)","v":0},0]
[null,{"$f":"COUNTIFS('⑤ラインリスト(その他)'!$F:$F,'⑥別表(その他)'!$A8,'⑤ラインリスト(その他)'!$G:$G,'⑥別表(その他)'!B$2)","v":0},{"$f":"COUNTIFS('⑤ラインリスト(その他)'!$F:$F,'⑥別表(その他)'!$A8,'⑤ラインリスト(その他)'!$G:$G,'⑥別表(その他)'!C$2)","v":0},{"$f":"COUNTIFS('⑤ラインリスト(その他)'!$F:$F,'⑥別表(その他)'!$A8,'⑤ラインリスト(その他)'!$G:$G,'⑥別表(その他)'!D$2)","v":0},{"$f":"COUNTIFS('⑤ラインリスト(その他)'!$F:$F,'⑥別表(その他)'!$A8,'⑤ラインリスト(その他)'!$G:$G,'⑥別表(その他)'!E$2)","v":0},{"$f":"COUNTIFS('⑤ラインリスト(その他)'!$F:$F,'⑥別表(その他)'!$A8,'⑤ラインリスト(その他)'!$G:$G,'⑥別表(その他)'!F$2)","v":0},{"$f":"COUNTIFS('⑤ラインリスト(その他)'!$F:$F,'⑥別表(その他)'!$A8,'⑤ラインリスト(その他)'!$G:$G,'⑥別表(その他)'!G$2)","v":0},{"$f":"COUNTIFS('⑤ラインリスト(その他)'!$F:$F,'⑥別表(その他)'!$A8,'⑤ラインリスト(その他)'!$G:$G,'⑥別表(その他)'!H$2)","v":0},{"$f":"COUNTIFS('⑤ラインリスト(その他)'!$F:$F,'⑥別表(その他)'!$A8,'⑤ラインリスト(その他)'!$G:$G,'⑥別表(その他)'!I$2)","v":0},{"$f":"COUNTIFS('⑤ラインリスト(その他)'!$F:$F,'⑥別表(その他)'!$A8,'⑤ラインリスト(その他)'!$G:$G,'⑥別表(その他)'!J$2)","v":0},{"$f":"COUNTIFS('⑤ラインリスト(その他)'!$F:$F,'⑥別表(その他)'!$A8,'⑤ラインリスト(その他)'!$G:$G,'⑥別表(その他)'!K$2)","v":0},{"$f":"COUNTIFS('⑤ラインリスト(その他)'!$F:$F,'⑥別表(その他)'!$A8,'⑤ラインリスト(その他)'!$G:$G,'⑥別表(その他)'!L$2)","v":0},{"$f":"COUNTIFS('⑤ラインリスト(その他)'!$F:$F,'⑥別表(その他)'!$A8,'⑤ラインリスト(その他)'!$G:$G,'⑥別表(その他)'!M$2)","v":0},{"$f":"COUNTIFS('⑤ラインリスト(その他)'!$F:$F,'⑥別表(その他)'!$A8,'⑤ラインリスト(その他)'!$G:$G,'⑥別表(その他)'!N$2)","v":0},{"$f":"COUNTIFS('⑤ラインリスト(その他)'!$F:$F,'⑥別表(その他)'!$A8,'⑤ラインリスト(その他)'!$G:$G,'⑥別表(その他)'!O$2)","v":0},{"$f":"COUNTIFS('⑤ラインリスト(その他)'!$F:$F,'⑥別表(その他)'!$A8,'⑤ラインリスト(その他)'!$G:$G,'⑥別表(その他)'!P$2)","v":0},{"$f":"COUNTIFS('⑤ラインリスト(その他)'!$F:$F,'⑥別表(その他)'!$A8,'⑤ラインリスト(その他)'!$G:$G,'⑥別表(その他)'!Q$2)","v":0},{"$f":"COUNTIFS('⑤ラインリスト(その他)'!$F:$F,'⑥別表(その他)'!$A8,'⑤ラインリスト(その他)'!$G:$G,'⑥別表(その他)'!R$2)","v":0},{"$f":"COUNTIFS('⑤ラインリスト(その他)'!$F:$F,'⑥別表(その他)'!$A8,'⑤ラインリスト(その他)'!$G:$G,'⑥別表(その他)'!S$2)","v":0},{"$f":"COUNTIFS('⑤ラインリスト(その他)'!$F:$F,'⑥別表(その他)'!$A8,'⑤ラインリスト(その他)'!$G:$G,'⑥別表(その他)'!T$2)","v":0},{"$f":"COUNTIFS('⑤ラインリスト(その他)'!$F:$F,'⑥別表(その他)'!$A8,'⑤ラインリスト(その他)'!$G:$G,'⑥別表(その他)'!U$2)","v":0},0]
[null,{"$f":"COUNTIFS('⑤ラインリスト(その他)'!$F:$F,'⑥別表(その他)'!$A9,'⑤ラインリスト(その他)'!$G:$G,'⑥別表(その他)'!B$2)","v":0},{"$f":"COUNTIFS('⑤ラインリスト(その他)'!$F:$F,'⑥別表(その他)'!$A9,'⑤ラインリスト(その他)'!$G:$G,'⑥別表(その他)'!C$2)","v":0},{"$f":"COUNTIFS('⑤ラインリスト(その他)'!$F:$F,'⑥別表(その他)'!$A9,'⑤ラインリスト(その他)'!$G:$G,'⑥別表(その他)'!D$2)","v":0},{"$f":"COUNTIFS('⑤ラインリスト(その他)'!$F:$F,'⑥別表(その他)'!$A9,'⑤ラインリスト(その他)'!$G:$G,'⑥別表(その他)'!E$2)","v":0},{"$f":"COUNTIFS('⑤ラインリスト(その他)'!$F:$F,'⑥別表(その他)'!$A9,'⑤ラインリスト(その他)'!$G:$G,'⑥別表(その他)'!F$2)","v":0},{"$f":"COUNTIFS('⑤ラインリスト(その他)'!$F:$F,'⑥別表(その他)'!$A9,'⑤ラインリスト(その他)'!$G:$G,'⑥別表(その他)'!G$2)","v":0},{"$f":"COUNTIFS('⑤ラインリスト(その他)'!$F:$F,'⑥別表(その他)'!$A9,'⑤ラインリスト(その他)'!$G:$G,'⑥別表(その他)'!H$2)","v":0},{"$f":"COUNTIFS('⑤ラインリスト(その他)'!$F:$F,'⑥別表(その他)'!$A9,'⑤ラインリスト(その他)'!$G:$G,'⑥別表(その他)'!I$2)","v":0},{"$f":"COUNTIFS('⑤ラインリスト(その他)'!$F:$F,'⑥別表(その他)'!$A9,'⑤ラインリスト(その他)'!$G:$G,'⑥別表(その他)'!J$2)","v":0},{"$f":"COUNTIFS('⑤ラインリスト(その他)'!$F:$F,'⑥別表(その他)'!$A9,'⑤ラインリスト(その他)'!$G:$G,'⑥別表(その他)'!K$2)","v":0},{"$f":"COUNTIFS('⑤ラインリスト(その他)'!$F:$F,'⑥別表(その他)'!$A9,'⑤ラインリスト(その他)'!$G:$G,'⑥別表(その他)'!L$2)","v":0},{"$f":"COUNTIFS('⑤ラインリスト(その他)'!$F:$F,'⑥別表(その他)'!$A9,'⑤ラインリスト(その他)'!$G:$G,'⑥別表(その他)'!M$2)","v":0},{"$f":"COUNTIFS('⑤ラインリスト(その他)'!$F:$F,'⑥別表(その他)'!$A9,'⑤ラインリスト(その他)'!$G:$G,'⑥別表(その他)'!N$2)","v":0},{"$f":"COUNTIFS('⑤ラインリスト(その他)'!$F:$F,'⑥別表(その他)'!$A9,'⑤ラインリスト(その他)'!$G:$G,'⑥別表(その他)'!O$2)","v":0},{"$f":"COUNTIFS('⑤ラインリスト(その他)'!$F:$F,'⑥別表(その他)'!$A9,'⑤ラインリスト(その他)'!$G:$G,'⑥別表(その他)'!P$2)","v":0},{"$f":"COUNTIFS('⑤ラインリスト(その他)'!$F:$F,'⑥別表(その他)'!$A9,'⑤ラインリスト(その他)'!$G:$G,'⑥別表(その他)'!Q$2)","v":0},{"$f":"COUNTIFS('⑤ラインリスト(その他)'!$F:$F,'⑥別表(その他)'!$A9,'⑤ラインリスト(その他)'!$G:$G,'⑥別表(その他)'!R$2)","v":0},{"$f":"COUNTIFS('⑤ラインリスト(その他)'!$F:$F,'⑥別表(その他)'!$A9,'⑤ラインリスト(その他)'!$G:$G,'⑥別表(その他)'!S$2)","v":0},{"$f":"COUNTIFS('⑤ラインリスト(その他)'!$F:$F,'⑥別表(その他)'!$A9,'⑤ラインリスト(その他)'!$G:$G,'⑥別表(その他)'!T$2)","v":0},{"$f":"COUNTIFS('⑤ラインリスト(その他)'!$F:$F,'⑥別表(その他)'!$A9,'⑤ラインリスト(その他)'!$G:$G,'⑥別表(その他)'!U$2)","v":0},0]
[null,{"$f":"COUNTIFS('⑤ラインリスト(その他)'!$F:$F,'⑥別表(その他)'!$A10,'⑤ラインリスト(その他)'!$G:$G,'⑥別表(その他)'!B$2)","v":0},{"$f":"COUNTIFS('⑤ラインリスト(その他)'!$F:$F,'⑥別表(その他)'!$A10,'⑤ラインリスト(その他)'!$G:$G,'⑥別表(その他)'!C$2)","v":0},{"$f":"COUNTIFS('⑤ラインリスト(その他)'!$F:$F,'⑥別表(その他)'!$A10,'⑤ラインリスト(その他)'!$G:$G,'⑥別表(その他)'!D$2)","v":0},{"$f":"COUNTIFS('⑤ラインリスト(その他)'!$F:$F,'⑥別表(その他)'!$A10,'⑤ラインリスト(その他)'!$G:$G,'⑥別表(その他)'!E$2)","v":0},{"$f":"COUNTIFS('⑤ラインリスト(その他)'!$F:$F,'⑥別表(その他)'!$A10,'⑤ラインリスト(その他)'!$G:$G,'⑥別表(その他)'!F$2)","v":0},{"$f":"COUNTIFS('⑤ラインリスト(その他)'!$F:$F,'⑥別表(その他)'!$A10,'⑤ラインリスト(その他)'!$G:$G,'⑥別表(その他)'!G$2)","v":0},{"$f":"COUNTIFS('⑤ラインリスト(その他)'!$F:$F,'⑥別表(その他)'!$A10,'⑤ラインリスト(その他)'!$G:$G,'⑥別表(その他)'!H$2)","v":0},{"$f":"COUNTIFS('⑤ラインリスト(その他)'!$F:$F,'⑥別表(その他)'!$A10,'⑤ラインリスト(その他)'!$G:$G,'⑥別表(その他)'!I$2)","v":0},{"$f":"COUNTIFS('⑤ラインリスト(その他)'!$F:$F,'⑥別表(その他)'!$A10,'⑤ラインリスト(その他)'!$G:$G,'⑥別表(その他)'!J$2)","v":0},{"$f":"COUNTIFS('⑤ラインリスト(その他)'!$F:$F,'⑥別表(その他)'!$A10,'⑤ラインリスト(その他)'!$G:$G,'⑥別表(その他)'!K$2)","v":0},{"$f":"COUNTIFS('⑤ラインリスト(その他)'!$F:$F,'⑥別表(その他)'!$A10,'⑤ラインリスト(その他)'!$G:$G,'⑥別表(その他)'!L$2)","v":0},{"$f":"COUNTIFS('⑤ラインリスト(その他)'!$F:$F,'⑥別表(その他)'!$A10,'⑤ラインリスト(その他)'!$G:$G,'⑥別表(その他)'!M$2)","v":0},{"$f":"COUNTIFS('⑤ラインリスト(その他)'!$F:$F,'⑥別表(その他)'!$A10,'⑤ラインリスト(その他)'!$G:$G,'⑥別表(その他)'!N$2)","v":0},{"$f":"COUNTIFS('⑤ラインリスト(その他)'!$F:$F,'⑥別表(その他)'!$A10,'⑤ラインリスト(その他)'!$G:$G,'⑥別表(その他)'!O$2)","v":0},{"$f":"COUNTIFS('⑤ラインリスト(その他)'!$F:$F,'⑥別表(その他)'!$A10,'⑤ラインリスト(その他)'!$G:$G,'⑥別表(その他)'!P$2)","v":0},{"$f":"COUNTIFS('⑤ラインリスト(その他)'!$F:$F,'⑥別表(その他)'!$A10,'⑤ラインリスト(その他)'!$G:$G,'⑥別表(その他)'!Q$2)","v":0},{"$f":"COUNTIFS('⑤ラインリスト(その他)'!$F:$F,'⑥別表(その他)'!$A10,'⑤ラインリスト(その他)'!$G:$G,'⑥別表(その他)'!R$2)","v":0},{"$f":"COUNTIFS('⑤ラインリスト(その他)'!$F:$F,'⑥別表(その他)'!$A10,'⑤ラインリスト(その他)'!$G:$G,'⑥別表(その他)'!S$2)","v":0},{"$f":"COUNTIFS('⑤ラインリスト(その他)'!$F:$F,'⑥別表(その他)'!$A10,'⑤ラインリスト(その他)'!$G:$G,'⑥別表(その他)'!T$2)","v":0},{"$f":"COUNTIFS('⑤ラインリスト(その他)'!$F:$F,'⑥別表(その他)'!$A10,'⑤ラインリスト(その他)'!$G:$G,'⑥別表(その他)'!U$2)","v":0},0]
[null,{"$f":"COUNTIFS('⑤ラインリスト(その他)'!$F:$F,'⑥別表(その他)'!$A11,'⑤ラインリスト(その他)'!$G:$G,'⑥別表(その他)'!B$2)","v":0},{"$f":"COUNTIFS('⑤ラインリスト(その他)'!$F:$F,'⑥別表(その他)'!$A11,'⑤ラインリスト(その他)'!$G:$G,'⑥別表(その他)'!C$2)","v":0},{"$f":"COUNTIFS('⑤ラインリスト(その他)'!$F:$F,'⑥別表(その他)'!$A11,'⑤ラインリスト(その他)'!$G:$G,'⑥別表(その他)'!D$2)","v":0},{"$f":"COUNTIFS('⑤ラインリスト(その他)'!$F:$F,'⑥別表(その他)'!$A11,'⑤ラインリスト(その他)'!$G:$G,'⑥別表(その他)'!E$2)","v":0},{"$f":"COUNTIFS('⑤ラインリスト(その他)'!$F:$F,'⑥別表(その他)'!$A11,'⑤ラインリスト(その他)'!$G:$G,'⑥別表(その他)'!F$2)","v":0},{"$f":"COUNTIFS('⑤ラインリスト(その他)'!$F:$F,'⑥別表(その他)'!$A11,'⑤ラインリスト(その他)'!$G:$G,'⑥別表(その他)'!G$2)","v":0},{"$f":"COUNTIFS('⑤ラインリスト(その他)'!$F:$F,'⑥別表(その他)'!$A11,'⑤ラインリスト(その他)'!$G:$G,'⑥別表(その他)'!H$2)","v":0},{"$f":"COUNTIFS('⑤ラインリスト(その他)'!$F:$F,'⑥別表(その他)'!$A11,'⑤ラインリスト(その他)'!$G:$G,'⑥別表(その他)'!I$2)","v":0},{"$f":"COUNTIFS('⑤ラインリスト(その他)'!$F:$F,'⑥別表(その他)'!$A11,'⑤ラインリスト(その他)'!$G:$G,'⑥別表(その他)'!J$2)","v":0},{"$f":"COUNTIFS('⑤ラインリスト(その他)'!$F:$F,'⑥別表(その他)'!$A11,'⑤ラインリスト(その他)'!$G:$G,'⑥別表(その他)'!K$2)","v":0},{"$f":"COUNTIFS('⑤ラインリスト(その他)'!$F:$F,'⑥別表(その他)'!$A11,'⑤ラインリスト(その他)'!$G:$G,'⑥別表(その他)'!L$2)","v":0},{"$f":"COUNTIFS('⑤ラインリスト(その他)'!$F:$F,'⑥別表(その他)'!$A11,'⑤ラインリスト(その他)'!$G:$G,'⑥別表(その他)'!M$2)","v":0},{"$f":"COUNTIFS('⑤ラインリスト(その他)'!$F:$F,'⑥別表(その他)'!$A11,'⑤ラインリスト(その他)'!$G:$G,'⑥別表(その他)'!N$2)","v":0},{"$f":"COUNTIFS('⑤ラインリスト(その他)'!$F:$F,'⑥別表(その他)'!$A11,'⑤ラインリスト(その他)'!$G:$G,'⑥別表(その他)'!O$2)","v":0},{"$f":"COUNTIFS('⑤ラインリスト(その他)'!$F:$F,'⑥別表(その他)'!$A11,'⑤ラインリスト(その他)'!$G:$G,'⑥別表(その他)'!P$2)","v":0},{"$f":"COUNTIFS('⑤ラインリスト(その他)'!$F:$F,'⑥別表(その他)'!$A11,'⑤ラインリスト(その他)'!$G:$G,'⑥別表(その他)'!Q$2)","v":0},{"$f":"COUNTIFS('⑤ラインリスト(その他)'!$F:$F,'⑥別表(その他)'!$A11,'⑤ラインリスト(その他)'!$G:$G,'⑥別表(その他)'!R$2)","v":0},{"$f":"COUNTIFS('⑤ラインリスト(その他)'!$F:$F,'⑥別表(その他)'!$A11,'⑤ラインリスト(その他)'!$G:$G,'⑥別表(その他)'!S$2)","v":0},{"$f":"COUNTIFS('⑤ラインリスト(その他)'!$F:$F,'⑥別表(その他)'!$A11,'⑤ラインリスト(その他)'!$G:$G,'⑥別表(その他)'!T$2)","v":0},{"$f":"COUNTIFS('⑤ラインリスト(その他)'!$F:$F,'⑥別表(その他)'!$A11,'⑤ラインリスト(その他)'!$G:$G,'⑥別表(その他)'!U$2)","v":0},0]
[null,{"$f":"COUNTIFS('⑤ラインリスト(その他)'!$F:$F,'⑥別表(その他)'!$A12,'⑤ラインリスト(その他)'!$G:$G,'⑥別表(その他)'!B$2)","v":0},{"$f":"COUNTIFS('⑤ラインリスト(その他)'!$F:$F,'⑥別表(その他)'!$A12,'⑤ラインリスト(その他)'!$G:$G,'⑥別表(その他)'!C$2)","v":0},{"$f":"COUNTIFS('⑤ラインリスト(その他)'!$F:$F,'⑥別表(その他)'!$A12,'⑤ラインリスト(その他)'!$G:$G,'⑥別表(その他)'!D$2)","v":0},{"$f":"COUNTIFS('⑤ラインリスト(その他)'!$F:$F,'⑥別表(その他)'!$A12,'⑤ラインリスト(その他)'!$G:$G,'⑥別表(その他)'!E$2)","v":0},{"$f":"COUNTIFS('⑤ラインリスト(その他)'!$F:$F,'⑥別表(その他)'!$A12,'⑤ラインリスト(その他)'!$G:$G,'⑥別表(その他)'!F$2)","v":0},{"$f":"COUNTIFS('⑤ラインリスト(その他)'!$F:$F,'⑥別表(その他)'!$A12,'⑤ラインリスト(その他)'!$G:$G,'⑥別表(その他)'!G$2)","v":0},{"$f":"COUNTIFS('⑤ラインリスト(その他)'!$F:$F,'⑥別表(その他)'!$A12,'⑤ラインリスト(その他)'!$G:$G,'⑥別表(その他)'!H$2)","v":0},{"$f":"COUNTIFS('⑤ラインリスト(その他)'!$F:$F,'⑥別表(その他)'!$A12,'⑤ラインリスト(その他)'!$G:$G,'⑥別表(その他)'!I$2)","v":0},{"$f":"COUNTIFS('⑤ラインリスト(その他)'!$F:$F,'⑥別表(その他)'!$A12,'⑤ラインリスト(その他)'!$G:$G,'⑥別表(その他)'!J$2)","v":0},{"$f":"COUNTIFS('⑤ラインリスト(その他)'!$F:$F,'⑥別表(その他)'!$A12,'⑤ラインリスト(その他)'!$G:$G,'⑥別表(その他)'!K$2)","v":0},{"$f":"COUNTIFS('⑤ラインリスト(その他)'!$F:$F,'⑥別表(その他)'!$A12,'⑤ラインリスト(その他)'!$G:$G,'⑥別表(その他)'!L$2)","v":0},{"$f":"COUNTIFS('⑤ラインリスト(その他)'!$F:$F,'⑥別表(その他)'!$A12,'⑤ラインリスト(その他)'!$G:$G,'⑥別表(その他)'!M$2)","v":0},{"$f":"COUNTIFS('⑤ラインリスト(その他)'!$F:$F,'⑥別表(その他)'!$A12,'⑤ラインリスト(その他)'!$G:$G,'⑥別表(その他)'!N$2)","v":0},{"$f":"COUNTIFS('⑤ラインリスト(その他)'!$F:$F,'⑥別表(その他)'!$A12,'⑤ラインリスト(その他)'!$G:$G,'⑥別表(その他)'!O$2)","v":0},{"$f":"COUNTIFS('⑤ラインリスト(その他)'!$F:$F,'⑥別表(その他)'!$A12,'⑤ラインリスト(その他)'!$G:$G,'⑥別表(その他)'!P$2)","v":0},{"$f":"COUNTIFS('⑤ラインリスト(その他)'!$F:$F,'⑥別表(その他)'!$A12,'⑤ラインリスト(その他)'!$G:$G,'⑥別表(その他)'!Q$2)","v":0},{"$f":"COUNTIFS('⑤ラインリスト(その他)'!$F:$F,'⑥別表(その他)'!$A12,'⑤ラインリスト(その他)'!$G:$G,'⑥別表(その他)'!R$2)","v":0},{"$f":"COUNTIFS('⑤ラインリスト(その他)'!$F:$F,'⑥別表(その他)'!$A12,'⑤ラインリスト(その他)'!$G:$G,'⑥別表(その他)'!S$2)","v":0},{"$f":"COUNTIFS('⑤ラインリスト(その他)'!$F:$F,'⑥別表(その他)'!$A12,'⑤ラインリスト(その他)'!$G:$G,'⑥別表(その他)'!T$2)","v":0},{"$f":"COUNTIFS('⑤ラインリスト(その他)'!$F:$F,'⑥別表(その他)'!$A12,'⑤ラインリスト(その他)'!$G:$G,'⑥別表(その他)'!U$2)","v":0},0]
["計",{"$f":"SUM(B3:B12)","v":0},{"$f":"SUM(C3:C12)","v":0},0,0,0,0,0,0,0,0,0,0,0,0,0,0,0,0,0,0,0]
[]
["流行曲線（エピカーブ）"]
[]
[]
[]
[]
[]
[]
[]
[]
[]
[]
[]
[]
[]
[]
[]
[]
[]
[]
[]
[]
[]
[]
["年代・性別発生状況",null,0,10,20,30,40,50,60,70,80,90,100]
["区分","性別／年代","10歳未満","10歳代","20歳代","30歳代","40歳代","50歳代","60歳代","70歳代","80歳代","90歳代","100歳代","計"]
[null,"男",{"$f":"COUNTIFS('⑤ラインリスト(その他)'!$B:$B,'⑥別表(その他)'!$A$41,'⑤ラインリスト(その他)'!$E:$E,'⑥別表(その他)'!$B40,'⑤ラインリスト(その他)'!$Q:$Q,'⑥別表(その他)'!C$38)","v":0},{"$f":"COUNTIFS('⑤ラインリスト(その他)'!$B:$B,'⑥別表(その他)'!$A$41,'⑤ラインリスト(その他)'!$E:$E,'⑥別表(その他)'!$B40,'⑤ラインリスト(その他)'!$Q:$Q,'⑥別表(その他)'!D$38)","v":0},{"$f":"COUNTIFS('⑤ラインリスト(その他)'!$B:$B,'⑥別表(その他)'!$A$41,'⑤ラインリスト(その他)'!$E:$E,'⑥別表(その他)'!$B40,'⑤ラインリスト(その他)'!$Q:$Q,'⑥別表(その他)'!E$38)","v":0},{"$f":"COUNTIFS('⑤ラインリスト(その他)'!$B:$B,'⑥別表(その他)'!$A$41,'⑤ラインリスト(その他)'!$E:$E,'⑥別表(その他)'!$B40,'⑤ラインリスト(その他)'!$Q:$Q,'⑥別表(その他)'!F$38)","v":0},{"$f":"COUNTIFS('⑤ラインリスト(その他)'!$B:$B,'⑥別表(その他)'!$A$41,'⑤ラインリスト(その他)'!$E:$E,'⑥別表(その他)'!$B40,'⑤ラインリスト(その他)'!$Q:$Q,'⑥別表(その他)'!G$38)","v":0},{"$f":"COUNTIFS('⑤ラインリスト(その他)'!$B:$B,'⑥別表(その他)'!$A$41,'⑤ラインリスト(その他)'!$E:$E,'⑥別表(その他)'!$B40,'⑤ラインリスト(その他)'!$Q:$Q,'⑥別表(その他)'!H$38)","v":0},{"$f":"COUNTIFS('⑤ラインリスト(その他)'!$B:$B,'⑥別表(その他)'!$A$41,'⑤ラインリスト(その他)'!$E:$E,'⑥別表(その他)'!$B40,'⑤ラインリスト(その他)'!$Q:$Q,'⑥別表(その他)'!I$38)","v":0},{"$f":"COUNTIFS('⑤ラインリスト(その他)'!$B:$B,'⑥別表(その他)'!$A$41,'⑤ラインリスト(その他)'!$E:$E,'⑥別表(その他)'!$B40,'⑤ラインリスト(その他)'!$Q:$Q,'⑥別表(その他)'!J$38)","v":0},{"$f":"COUNTIFS('⑤ラインリスト(その他)'!$B:$B,'⑥別表(その他)'!$A$41,'⑤ラインリスト(その他)'!$E:$E,'⑥別表(その他)'!$B40,'⑤ラインリスト(その他)'!$Q:$Q,'⑥別表(その他)'!K$38)","v":0},{"$f":"COUNTIFS('⑤ラインリスト(その他)'!$B:$B,'⑥別表(その他)'!$A$41,'⑤ラインリスト(その他)'!$E:$E,'⑥別表(その他)'!$B40,'⑤ラインリスト(その他)'!$Q:$Q,'⑥別表(その他)'!L$38)","v":0},{"$f":"COUNTIFS('⑤ラインリスト(その他)'!$B:$B,'⑥別表(その他)'!$A$41,'⑤ラインリスト(その他)'!$E:$E,'⑥別表(その他)'!$B40,'⑤ラインリスト(その他)'!$Q:$Q,'⑥別表(その他)'!M$38)","v":0},{"$f":"SUM(C40:M40)","v":0}]
[null,"女",{"$f":"COUNTIFS('⑤ラインリスト(その他)'!$B:$B,'⑥別表(その他)'!$A$41,'⑤ラインリスト(その他)'!$E:$E,'⑥別表(その他)'!$B41,'⑤ラインリスト(その他)'!$Q:$Q,'⑥別表(その他)'!C$38)","v":0},{"$f":"COUNTIFS('⑤ラインリスト(その他)'!$B:$B,'⑥別表(その他)'!$A$41,'⑤ラインリスト(その他)'!$E:$E,'⑥別表(その他)'!$B41,'⑤ラインリスト(その他)'!$Q:$Q,'⑥別表(その他)'!D$38)","v":0},{"$f":"COUNTIFS('⑤ラインリスト(その他)'!$B:$B,'⑥別表(その他)'!$A$41,'⑤ラインリスト(その他)'!$E:$E,'⑥別表(その他)'!$B41,'⑤ラインリスト(その他)'!$Q:$Q,'⑥別表(その他)'!E$38)","v":0},{"$f":"COUNTIFS('⑤ラインリスト(その他)'!$B:$B,'⑥別表(その他)'!$A$41,'⑤ラインリスト(その他)'!$E:$E,'⑥別表(その他)'!$B41,'⑤ラインリスト(その他)'!$Q:$Q,'⑥別表(その他)'!F$38)","v":0},{"$f":"COUNTIFS('⑤ラインリスト(その他)'!$B:$B,'⑥別表(その他)'!$A$41,'⑤ラインリスト(その他)'!$E:$E,'⑥別表(その他)'!$B41,'⑤ラインリスト(その他)'!$Q:$Q,'⑥別表(その他)'!G$38)","v":0},{"$f":"COUNTIFS('⑤ラインリスト(その他)'!$B:$B,'⑥別表(その他)'!$A$41,'⑤ラインリスト(その他)'!$E:$E,'⑥別表(その他)'!$B41,'⑤ラインリスト(その他)'!$Q:$Q,'⑥別表(その他)'!H$38)","v":0},{"$f":"COUNTIFS('⑤ラインリスト(その他)'!$B:$B,'⑥別表(その他)'!$A$41,'⑤ラインリスト(その他)'!$E:$E,'⑥別表(その他)'!$B41,'⑤ラインリスト(その他)'!$Q:$Q,'⑥別表(その他)'!I$38)","v":0},{"$f":"COUNTIFS('⑤ラインリスト(その他)'!$B:$B,'⑥別表(その他)'!$A$41,'⑤ラインリスト(その他)'!$E:$E,'⑥別表(その他)'!$B41,'⑤ラインリスト(その他)'!$Q:$Q,'⑥別表(その他)'!J$38)","v":0},{"$f":"COUNTIFS('⑤ラインリスト(その他)'!$B:$B,'⑥別表(その他)'!$A$41,'⑤ラインリスト(その他)'!$E:$E,'⑥別表(その他)'!$B41,'⑤ラインリスト(その他)'!$Q:$Q,'⑥別表(その他)'!K$38)","v":0},{"$f":"COUNTIFS('⑤ラインリスト(その他)'!$B:$B,'⑥別表(その他)'!$A$41,'⑤ラインリスト(その他)'!$E:$E,'⑥別表(その他)'!$B41,'⑤ラインリスト(その他)'!$Q:$Q,'⑥別表(その他)'!L$38)","v":0},{"$f":"COUNTIFS('⑤ラインリスト(その他)'!$B:$B,'⑥別表(その他)'!$A$41,'⑤ラインリスト(その他)'!$E:$E,'⑥別表(その他)'!$B41,'⑤ラインリスト(その他)'!$Q:$Q,'⑥別表(その他)'!M$38)","v":0},{"$f":"SUM(C41:M41)","v":0}]
[null,"計",{"$f":"SUM(C40:C41)","v":0},{"$f":"SUM(D40:D41)","v":0},0,0,0,0,0,0,0,0,0,0]
[null,"男",{"$f":"COUNTIFS('⑤ラインリスト(その他)'!$B:$B,'⑥別表(その他)'!$A$44,'⑤ラインリスト(その他)'!$E:$E,'⑥別表(その他)'!$B43,'⑤ラインリスト(その他)'!$Q:$Q,'⑥別表(その他)'!C$38)","v":0},{"$f":"COUNTIFS('⑤ラインリスト(その他)'!$B:$B,'⑥別表(その他)'!$A$44,'⑤ラインリスト(その他)'!$E:$E,'⑥別表(その他)'!$B43,'⑤ラインリスト(その他)'!$Q:$Q,'⑥別表(その他)'!D$38)","v":0},{"$f":"COUNTIFS('⑤ラインリスト(その他)'!$B:$B,'⑥別表(その他)'!$A$44,'⑤ラインリスト(その他)'!$E:$E,'⑥別表(その他)'!$B43,'⑤ラインリスト(その他)'!$Q:$Q,'⑥別表(その他)'!E$38)","v":0},{"$f":"COUNTIFS('⑤ラインリスト(その他)'!$B:$B,'⑥別表(その他)'!$A$44,'⑤ラインリスト(その他)'!$E:$E,'⑥別表(その他)'!$B43,'⑤ラインリスト(その他)'!$Q:$Q,'⑥別表(その他)'!F$38)","v":0},{"$f":"COUNTIFS('⑤ラインリスト(その他)'!$B:$B,'⑥別表(その他)'!$A$44,'⑤ラインリスト(その他)'!$E:$E,'⑥別表(その他)'!$B43,'⑤ラインリスト(その他)'!$Q:$Q,'⑥別表(その他)'!G$38)","v":0},{"$f":"COUNTIFS('⑤ラインリスト(その他)'!$B:$B,'⑥別表(その他)'!$A$44,'⑤ラインリスト(その他)'!$E:$E,'⑥別表(その他)'!$B43,'⑤ラインリスト(その他)'!$Q:$Q,'⑥別表(その他)'!H$38)","v":0},{"$f":"COUNTIFS('⑤ラインリスト(その他)'!$B:$B,'⑥別表(その他)'!$A$44,'⑤ラインリスト(その他)'!$E:$E,'⑥別表(その他)'!$B43,'⑤ラインリスト(その他)'!$Q:$Q,'⑥別表(その他)'!I$38)","v":0},{"$f":"COUNTIFS('⑤ラインリスト(その他)'!$B:$B,'⑥別表(その他)'!$A$44,'⑤ラインリスト(その他)'!$E:$E,'⑥別表(その他)'!$B43,'⑤ラインリスト(その他)'!$Q:$Q,'⑥別表(その他)'!J$38)","v":0},{"$f":"COUNTIFS('⑤ラインリスト(その他)'!$B:$B,'⑥別表(その他)'!$A$44,'⑤ラインリスト(その他)'!$E:$E,'⑥別表(その他)'!$B43,'⑤ラインリスト(その他)'!$Q:$Q,'⑥別表(その他)'!K$38)","v":0},{"$f":"COUNTIFS('⑤ラインリスト(その他)'!$B:$B,'⑥別表(その他)'!$A$44,'⑤ラインリスト(その他)'!$E:$E,'⑥別表(その他)'!$B43,'⑤ラインリスト(その他)'!$Q:$Q,'⑥別表(その他)'!L$38)","v":0},{"$f":"COUNTIFS('⑤ラインリスト(その他)'!$B:$B,'⑥別表(その他)'!$A$44,'⑤ラインリスト(その他)'!$E:$E,'⑥別表(その他)'!$B43,'⑤ラインリスト(その他)'!$Q:$Q,'⑥別表(その他)'!M$38)","v":0},{"$f":"SUM(C43:M43)","v":0}]
[null,"女",{"$f":"COUNTIFS('⑤ラインリスト(その他)'!$B:$B,'⑥別表(その他)'!$A$44,'⑤ラインリスト(その他)'!$E:$E,'⑥別表(その他)'!$B44,'⑤ラインリスト(その他)'!$Q:$Q,'⑥別表(その他)'!C$38)","v":0},{"$f":"COUNTIFS('⑤ラインリスト(その他)'!$B:$B,'⑥別表(その他)'!$A$44,'⑤ラインリスト(その他)'!$E:$E,'⑥別表(その他)'!$B44,'⑤ラインリスト(その他)'!$Q:$Q,'⑥別表(その他)'!D$38)","v":0},{"$f":"COUNTIFS('⑤ラインリスト(その他)'!$B:$B,'⑥別表(その他)'!$A$44,'⑤ラインリスト(その他)'!$E:$E,'⑥別表(その他)'!$B44,'⑤ラインリスト(その他)'!$Q:$Q,'⑥別表(その他)'!E$38)","v":0},{"$f":"COUNTIFS('⑤ラインリスト(その他)'!$B:$B,'⑥別表(その他)'!$A$44,'⑤ラインリスト(その他)'!$E:$E,'⑥別表(その他)'!$B44,'⑤ラインリスト(その他)'!$Q:$Q,'⑥別表(その他)'!F$38)","v":0},{"$f":"COUNTIFS('⑤ラインリスト(その他)'!$B:$B,'⑥別表(その他)'!$A$44,'⑤ラインリスト(その他)'!$E:$E,'⑥別表(その他)'!$B44,'⑤ラインリスト(その他)'!$Q:$Q,'⑥別表(その他)'!G$38)","v":0},{"$f":"COUNTIFS('⑤ラインリスト(その他)'!$B:$B,'⑥別表(その他)'!$A$44,'⑤ラインリスト(その他)'!$E:$E,'⑥別表(その他)'!$B44,'⑤ラインリスト(その他)'!$Q:$Q,'⑥別表(その他)'!H$38)","v":0},{"$f":"COUNTIFS('⑤ラインリスト(その他)'!$B:$B,'⑥別表(その他)'!$A$44,'⑤ラインリスト(その他)'!$E:$E,'⑥別表(その他)'!$B44,'⑤ラインリスト(その他)'!$Q:$Q,'⑥別表(その他)'!I$38)","v":0},{"$f":"COUNTIFS('⑤ラインリスト(その他)'!$B:$B,'⑥別表(その他)'!$A$44,'⑤ラインリスト(その他)'!$E:$E,'⑥別表(その他)'!$B44,'⑤ラインリスト(その他)'!$Q:$Q,'⑥別表(その他)'!J$38)","v":0},{"$f":"COUNTIFS('⑤ラインリスト(その他)'!$B:$B,'⑥別表(その他)'!$A$44,'⑤ラインリスト(その他)'!$E:$E,'⑥別表(その他)'!$B44,'⑤ラインリスト(その他)'!$Q:$Q,'⑥別表(その他)'!K$38)","v":0},{"$f":"COUNTIFS('⑤ラインリスト(その他)'!$B:$B,'⑥別表(その他)'!$A$44,'⑤ラインリスト(その他)'!$E:$E,'⑥別表(その他)'!$B44,'⑤ラインリスト(その他)'!$Q:$Q,'⑥別表(その他)'!L$38)","v":0},{"$f":"COUNTIFS('⑤ラインリスト(その他)'!$B:$B,'⑥別表(その他)'!$A$44,'⑤ラインリスト(その他)'!$E:$E,'⑥別表(その他)'!$B44,'⑤ラインリスト(その他)'!$Q:$Q,'⑥別表(その他)'!M$38)","v":0},{"$f":"SUM(C44:M44)","v":0}]
[null,"計",{"$f":"SUM(C43:C44)","v":0},{"$f":"SUM(D43:D44)","v":0},0,0,0,0,0,0,0,0,0,0]
[]
["年齢・性別発生状況 ",null,0,1,2,3,4,5,6,7,8,9,10,11,12,13,14,15,16,17,18,19,20]
["区分","性別／年代","0歳","1歳","2歳","3歳","4歳","5歳","6歳","7歳","8歳","9歳","10歳","11歳","12歳","13歳","14歳","15歳","16歳","17歳","18歳","19歳","20歳","計"]
[null,"男",{"$f":"COUNTIFS('⑤ラインリスト(その他)'!$B:$B,'⑥別表(その他)'!$A$50,'⑤ラインリスト(その他)'!$E:$E,'⑥別表(その他)'!$B49,'⑤ラインリスト(その他)'!$D:$D,'⑥別表(その他)'!C$47)","v":0},{"$f":"COUNTIFS('⑤ラインリスト(その他)'!$B:$B,'⑥別表(その他)'!$A$49,'⑤ラインリスト(その他)'!$E:$E,'⑥別表(その他)'!$B49,'⑤ラインリスト(その他)'!$D:$D,'⑥別表(その他)'!D$47)","v":0},{"$f":"COUNTIFS('⑤ラインリスト(その他)'!$B:$B,'⑥別表(その他)'!$A$49,'⑤ラインリスト(その他)'!$E:$E,'⑥別表(その他)'!$B49,'⑤ラインリスト(その他)'!$D:$D,'⑥別表(その他)'!E$47)","v":0},{"$f":"COUNTIFS('⑤ラインリスト(その他)'!$B:$B,'⑥別表(その他)'!$A$49,'⑤ラインリスト(その他)'!$E:$E,'⑥別表(その他)'!$B49,'⑤ラインリスト(その他)'!$D:$D,'⑥別表(その他)'!F$47)","v":0},{"$f":"COUNTIFS('⑤ラインリスト(その他)'!$B:$B,'⑥別表(その他)'!$A$49,'⑤ラインリスト(その他)'!$E:$E,'⑥別表(その他)'!$B49,'⑤ラインリスト(その他)'!$D:$D,'⑥別表(その他)'!G$47)","v":0},{"$f":"COUNTIFS('⑤ラインリスト(その他)'!$B:$B,'⑥別表(その他)'!$A$49,'⑤ラインリスト(その他)'!$E:$E,'⑥別表(その他)'!$B49,'⑤ラインリスト(その他)'!$D:$D,'⑥別表(その他)'!H$47)","v":0},{"$f":"COUNTIFS('⑤ラインリスト(その他)'!$B:$B,'⑥別表(その他)'!$A$49,'⑤ラインリスト(その他)'!$E:$E,'⑥別表(その他)'!$B49,'⑤ラインリスト(その他)'!$D:$D,'⑥別表(その他)'!I$47)","v":0},{"$f":"COUNTIFS('⑤ラインリスト(その他)'!$B:$B,'⑥別表(その他)'!$A$49,'⑤ラインリスト(その他)'!$E:$E,'⑥別表(その他)'!$B49,'⑤ラインリスト(その他)'!$D:$D,'⑥別表(その他)'!J$47)","v":0},{"$f":"COUNTIFS('⑤ラインリスト(その他)'!$B:$B,'⑥別表(その他)'!$A$49,'⑤ラインリスト(その他)'!$E:$E,'⑥別表(その他)'!$B49,'⑤ラインリスト(その他)'!$D:$D,'⑥別表(その他)'!K$47)","v":0},{"$f":"COUNTIFS('⑤ラインリスト(その他)'!$B:$B,'⑥別表(その他)'!$A$49,'⑤ラインリスト(その他)'!$E:$E,'⑥別表(その他)'!$B49,'⑤ラインリスト(その他)'!$D:$D,'⑥別表(その他)'!L$47)","v":0},{"$f":"COUNTIFS('⑤ラインリスト(その他)'!$B:$B,'⑥別表(その他)'!$A$49,'⑤ラインリスト(その他)'!$E:$E,'⑥別表(その他)'!$B49,'⑤ラインリスト(その他)'!$D:$D,'⑥別表(その他)'!M$47)","v":0},{"$f":"COUNTIFS('⑤ラインリスト(その他)'!$B:$B,'⑥別表(その他)'!$A$49,'⑤ラインリスト(その他)'!$E:$E,'⑥別表(その他)'!$B49,'⑤ラインリスト(その他)'!$D:$D,'⑥別表(その他)'!N$47)","v":0},{"$f":"COUNTIFS('⑤ラインリスト(その他)'!$B:$B,'⑥別表(その他)'!$A$49,'⑤ラインリスト(その他)'!$E:$E,'⑥別表(その他)'!$B49,'⑤ラインリスト(その他)'!$D:$D,'⑥別表(その他)'!O$47)","v":0},{"$f":"COUNTIFS('⑤ラインリスト(その他)'!$B:$B,'⑥別表(その他)'!$A$49,'⑤ラインリスト(その他)'!$E:$E,'⑥別表(その他)'!$B49,'⑤ラインリスト(その他)'!$D:$D,'⑥別表(その他)'!P$47)","v":0},{"$f":"COUNTIFS('⑤ラインリスト(その他)'!$B:$B,'⑥別表(その他)'!$A$49,'⑤ラインリスト(その他)'!$E:$E,'⑥別表(その他)'!$B49,'⑤ラインリスト(その他)'!$D:$D,'⑥別表(その他)'!Q$47)","v":0},{"$f":"COUNTIFS('⑤ラインリスト(その他)'!$B:$B,'⑥別表(その他)'!$A$49,'⑤ラインリスト(その他)'!$E:$E,'⑥別表(その他)'!$B49,'⑤ラインリスト(その他)'!$D:$D,'⑥別表(その他)'!R$47)","v":0},{"$f":"COUNTIFS('⑤ラインリスト(その他)'!$B:$B,'⑥別表(その他)'!$A$49,'⑤ラインリスト(その他)'!$E:$E,'⑥別表(その他)'!$B49,'⑤ラインリスト(その他)'!$D:$D,'⑥別表(その他)'!S$47)","v":0},{"$f":"COUNTIFS('⑤ラインリスト(その他)'!$B:$B,'⑥別表(その他)'!$A$49,'⑤ラインリスト(その他)'!$E:$E,'⑥別表(その他)'!$B49,'⑤ラインリスト(その他)'!$D:$D,'⑥別表(その他)'!T$47)","v":0},{"$f":"COUNTIFS('⑤ラインリスト(その他)'!$B:$B,'⑥別表(その他)'!$A$49,'⑤ラインリスト(その他)'!$E:$E,'⑥別表(その他)'!$B49,'⑤ラインリスト(その他)'!$D:$D,'⑥別表(その他)'!U$47)","v":0},{"$f":"COUNTIFS('⑤ラインリスト(その他)'!$B:$B,'⑥別表(その他)'!$A$49,'⑤ラインリスト(その他)'!$E:$E,'⑥別表(その他)'!$B49,'⑤ラインリスト(その他)'!$D:$D,'⑥別表(その他)'!V$47)","v":0},{"$f":"COUNTIFS('⑤ラインリスト(その他)'!$B:$B,'⑥別表(その他)'!$A$49,'⑤ラインリスト(その他)'!$E:$E,'⑥別表(その他)'!$B49,'⑤ラインリスト(その他)'!$D:$D,'⑥別表(その他)'!W$47)","v":0},{"$f":"SUM(C49:W49)","v":0}]
[null,"女",{"$f":"COUNTIFS('⑤ラインリスト(その他)'!$B:$B,'⑥別表(その他)'!$A$50,'⑤ラインリスト(その他)'!$E:$E,'⑥別表(その他)'!$B50,'⑤ラインリスト(その他)'!$D:$D,'⑥別表(その他)'!C$47)","v":0},{"$f":"COUNTIFS('⑤ラインリスト(その他)'!$B:$B,'⑥別表(その他)'!$A$49,'⑤ラインリスト(その他)'!$E:$E,'⑥別表(その他)'!$B50,'⑤ラインリスト(その他)'!$D:$D,'⑥別表(その他)'!D$47)","v":0},{"$f":"COUNTIFS('⑤ラインリスト(その他)'!$B:$B,'⑥別表(その他)'!$A$49,'⑤ラインリスト(その他)'!$E:$E,'⑥別表(その他)'!$B50,'⑤ラインリスト(その他)'!$D:$D,'⑥別表(その他)'!E$47)","v":0},{"$f":"COUNTIFS('⑤ラインリスト(その他)'!$B:$B,'⑥別表(その他)'!$A$49,'⑤ラインリスト(その他)'!$E:$E,'⑥別表(その他)'!$B50,'⑤ラインリスト(その他)'!$D:$D,'⑥別表(その他)'!F$47)","v":0},{"$f":"COUNTIFS('⑤ラインリスト(その他)'!$B:$B,'⑥別表(その他)'!$A$49,'⑤ラインリスト(その他)'!$E:$E,'⑥別表(その他)'!$B50,'⑤ラインリスト(その他)'!$D:$D,'⑥別表(その他)'!G$47)","v":0},{"$f":"COUNTIFS('⑤ラインリスト(その他)'!$B:$B,'⑥別表(その他)'!$A$49,'⑤ラインリスト(その他)'!$E:$E,'⑥別表(その他)'!$B50,'⑤ラインリスト(その他)'!$D:$D,'⑥別表(その他)'!H$47)","v":0},{"$f":"COUNTIFS('⑤ラインリスト(その他)'!$B:$B,'⑥別表(その他)'!$A$49,'⑤ラインリスト(その他)'!$E:$E,'⑥別表(その他)'!$B50,'⑤ラインリスト(その他)'!$D:$D,'⑥別表(その他)'!I$47)","v":0},{"$f":"COUNTIFS('⑤ラインリスト(その他)'!$B:$B,'⑥別表(その他)'!$A$49,'⑤ラインリスト(その他)'!$E:$E,'⑥別表(その他)'!$B50,'⑤ラインリスト(その他)'!$D:$D,'⑥別表(その他)'!J$47)","v":0},{"$f":"COUNTIFS('⑤ラインリスト(その他)'!$B:$B,'⑥別表(その他)'!$A$49,'⑤ラインリスト(その他)'!$E:$E,'⑥別表(その他)'!$B50,'⑤ラインリスト(その他)'!$D:$D,'⑥別表(その他)'!K$47)","v":0},{"$f":"COUNTIFS('⑤ラインリスト(その他)'!$B:$B,'⑥別表(その他)'!$A$49,'⑤ラインリスト(その他)'!$E:$E,'⑥別表(その他)'!$B50,'⑤ラインリスト(その他)'!$D:$D,'⑥別表(その他)'!L$47)","v":0},{"$f":"COUNTIFS('⑤ラインリスト(その他)'!$B:$B,'⑥別表(その他)'!$A$49,'⑤ラインリスト(その他)'!$E:$E,'⑥別表(その他)'!$B50,'⑤ラインリスト(その他)'!$D:$D,'⑥別表(その他)'!M$47)","v":0},{"$f":"COUNTIFS('⑤ラインリスト(その他)'!$B:$B,'⑥別表(その他)'!$A$49,'⑤ラインリスト(その他)'!$E:$E,'⑥別表(その他)'!$B50,'⑤ラインリスト(その他)'!$D:$D,'⑥別表(その他)'!N$47)","v":0},{"$f":"COUNTIFS('⑤ラインリスト(その他)'!$B:$B,'⑥別表(その他)'!$A$49,'⑤ラインリスト(その他)'!$E:$E,'⑥別表(その他)'!$B50,'⑤ラインリスト(その他)'!$D:$D,'⑥別表(その他)'!O$47)","v":0},{"$f":"COUNTIFS('⑤ラインリスト(その他)'!$B:$B,'⑥別表(その他)'!$A$49,'⑤ラインリスト(その他)'!$E:$E,'⑥別表(その他)'!$B50,'⑤ラインリスト(その他)'!$D:$D,'⑥別表(その他)'!P$47)","v":0},{"$f":"COUNTIFS('⑤ラインリスト(その他)'!$B:$B,'⑥別表(その他)'!$A$49,'⑤ラインリスト(その他)'!$E:$E,'⑥別表(その他)'!$B50,'⑤ラインリスト(その他)'!$D:$D,'⑥別表(その他)'!Q$47)","v":0},{"$f":"COUNTIFS('⑤ラインリスト(その他)'!$B:$B,'⑥別表(その他)'!$A$49,'⑤ラインリスト(その他)'!$E:$E,'⑥別表(その他)'!$B50,'⑤ラインリスト(その他)'!$D:$D,'⑥別表(その他)'!R$47)","v":0},{"$f":"COUNTIFS('⑤ラインリスト(その他)'!$B:$B,'⑥別表(その他)'!$A$49,'⑤ラインリスト(その他)'!$E:$E,'⑥別表(その他)'!$B50,'⑤ラインリスト(その他)'!$D:$D,'⑥別表(その他)'!S$47)","v":0},{"$f":"COUNTIFS('⑤ラインリスト(その他)'!$B:$B,'⑥別表(その他)'!$A$49,'⑤ラインリスト(その他)'!$E:$E,'⑥別表(その他)'!$B50,'⑤ラインリスト(その他)'!$D:$D,'⑥別表(その他)'!T$47)","v":0},{"$f":"COUNTIFS('⑤ラインリスト(その他)'!$B:$B,'⑥別表(その他)'!$A$49,'⑤ラインリスト(その他)'!$E:$E,'⑥別表(その他)'!$B50,'⑤ラインリスト(その他)'!$D:$D,'⑥別表(その他)'!U$47)","v":0},{"$f":"COUNTIFS('⑤ラインリスト(その他)'!$B:$B,'⑥別表(その他)'!$A$49,'⑤ラインリスト(その他)'!$E:$E,'⑥別表(その他)'!$B50,'⑤ラインリスト(その他)'!$D:$D,'⑥別表(その他)'!V$47)","v":0},{"$f":"COUNTIFS('⑤ラインリスト(その他)'!$B:$B,'⑥別表(その他)'!$A$49,'⑤ラインリスト(その他)'!$E:$E,'⑥別表(その他)'!$B50,'⑤ラインリスト(その他)'!$D:$D,'⑥別表(その他)'!W$47)","v":0},{"$f":"SUM(C50:W50)","v":0}]
[null,"計",{"$f":"SUM(C49:C50)","v":0},{"$f":"SUM(D49:D50)","v":0},0,0,0,0,0,0,0,0,0,{"$f":"SUM(N49:N50)","v":0},{"$f":"SUM(O49:O50)","v":0},0,0,0,0,0,0,0,{"$f":"SUM(W49:W50)","v":0},{"$f":"SUM(X49:X50)","v":0}]
[null,"男",{"$f":"COUNTIFS('⑤ラインリスト(その他)'!$B:$B,'⑥別表(その他)'!$A$53,'⑤ラインリスト(その他)'!$E:$E,'⑥別表(その他)'!$B52,'⑤ラインリスト(その他)'!$D:$D,'⑥別表(その他)'!C$47)","v":0},{"$f":"COUNTIFS('⑤ラインリスト(その他)'!$B:$B,'⑥別表(その他)'!$A$53,'⑤ラインリスト(その他)'!$E:$E,'⑥別表(その他)'!$B52,'⑤ラインリスト(その他)'!$D:$D,'⑥別表(その他)'!D$47)","v":0},{"$f":"COUNTIFS('⑤ラインリスト(その他)'!$B:$B,'⑥別表(その他)'!$A$53,'⑤ラインリスト(その他)'!$E:$E,'⑥別表(その他)'!$B52,'⑤ラインリスト(その他)'!$D:$D,'⑥別表(その他)'!E$47)","v":0},{"$f":"COUNTIFS('⑤ラインリスト(その他)'!$B:$B,'⑥別表(その他)'!$A$53,'⑤ラインリスト(その他)'!$E:$E,'⑥別表(その他)'!$B52,'⑤ラインリスト(その他)'!$D:$D,'⑥別表(その他)'!F$47)","v":0},{"$f":"COUNTIFS('⑤ラインリスト(その他)'!$B:$B,'⑥別表(その他)'!$A$53,'⑤ラインリスト(その他)'!$E:$E,'⑥別表(その他)'!$B52,'⑤ラインリスト(その他)'!$D:$D,'⑥別表(その他)'!G$47)","v":0},{"$f":"COUNTIFS('⑤ラインリスト(その他)'!$B:$B,'⑥別表(その他)'!$A$53,'⑤ラインリスト(その他)'!$E:$E,'⑥別表(その他)'!$B52,'⑤ラインリスト(その他)'!$D:$D,'⑥別表(その他)'!H$47)","v":0},{"$f":"COUNTIFS('⑤ラインリスト(その他)'!$B:$B,'⑥別表(その他)'!$A$53,'⑤ラインリスト(その他)'!$E:$E,'⑥別表(その他)'!$B52,'⑤ラインリスト(その他)'!$D:$D,'⑥別表(その他)'!I$47)","v":0},{"$f":"COUNTIFS('⑤ラインリスト(その他)'!$B:$B,'⑥別表(その他)'!$A$53,'⑤ラインリスト(その他)'!$E:$E,'⑥別表(その他)'!$B52,'⑤ラインリスト(その他)'!$D:$D,'⑥別表(その他)'!J$47)","v":0},{"$f":"COUNTIFS('⑤ラインリスト(その他)'!$B:$B,'⑥別表(その他)'!$A$53,'⑤ラインリスト(その他)'!$E:$E,'⑥別表(その他)'!$B52,'⑤ラインリスト(その他)'!$D:$D,'⑥別表(その他)'!K$47)","v":0},{"$f":"COUNTIFS('⑤ラインリスト(その他)'!$B:$B,'⑥別表(その他)'!$A$53,'⑤ラインリスト(その他)'!$E:$E,'⑥別表(その他)'!$B52,'⑤ラインリスト(その他)'!$D:$D,'⑥別表(その他)'!L$47)","v":0},{"$f":"COUNTIFS('⑤ラインリスト(その他)'!$B:$B,'⑥別表(その他)'!$A$53,'⑤ラインリスト(その他)'!$E:$E,'⑥別表(その他)'!$B52,'⑤ラインリスト(その他)'!$D:$D,'⑥別表(その他)'!M$47)","v":0},{"$f":"COUNTIFS('⑤ラインリスト(その他)'!$B:$B,'⑥別表(その他)'!$A$53,'⑤ラインリスト(その他)'!$E:$E,'⑥別表(その他)'!$B52,'⑤ラインリスト(その他)'!$D:$D,'⑥別表(その他)'!N$47)","v":0},{"$f":"COUNTIFS('⑤ラインリスト(その他)'!$B:$B,'⑥別表(その他)'!$A$53,'⑤ラインリスト(その他)'!$E:$E,'⑥別表(その他)'!$B52,'⑤ラインリスト(その他)'!$D:$D,'⑥別表(その他)'!O$47)","v":0},{"$f":"COUNTIFS('⑤ラインリスト(その他)'!$B:$B,'⑥別表(その他)'!$A$53,'⑤ラインリスト(その他)'!$E:$E,'⑥別表(その他)'!$B52,'⑤ラインリスト(その他)'!$D:$D,'⑥別表(その他)'!P$47)","v":0},{"$f":"COUNTIFS('⑤ラインリスト(その他)'!$B:$B,'⑥別表(その他)'!$A$53,'⑤ラインリスト(その他)'!$E:$E,'⑥別表(その他)'!$B52,'⑤ラインリスト(その他)'!$D:$D,'⑥別表(その他)'!Q$47)","v":0},{"$f":"COUNTIFS('⑤ラインリスト(その他)'!$B:$B,'⑥別表(その他)'!$A$53,'⑤ラインリスト(その他)'!$E:$E,'⑥別表(その他)'!$B52,'⑤ラインリスト(その他)'!$D:$D,'⑥別表(その他)'!R$47)","v":0},{"$f":"COUNTIFS('⑤ラインリスト(その他)'!$B:$B,'⑥別表(その他)'!$A$53,'⑤ラインリスト(その他)'!$E:$E,'⑥別表(その他)'!$B52,'⑤ラインリスト(その他)'!$D:$D,'⑥別表(その他)'!S$47)","v":0},{"$f":"COUNTIFS('⑤ラインリスト(その他)'!$B:$B,'⑥別表(その他)'!$A$53,'⑤ラインリスト(その他)'!$E:$E,'⑥別表(その他)'!$B52,'⑤ラインリスト(その他)'!$D:$D,'⑥別表(その他)'!T$47)","v":0},{"$f":"COUNTIFS('⑤ラインリスト(その他)'!$B:$B,'⑥別表(その他)'!$A$53,'⑤ラインリスト(その他)'!$E:$E,'⑥別表(その他)'!$B52,'⑤ラインリスト(その他)'!$D:$D,'⑥別表(その他)'!U$47)","v":0},{"$f":"COUNTIFS('⑤ラインリスト(その他)'!$B:$B,'⑥別表(その他)'!$A$53,'⑤ラインリスト(その他)'!$E:$E,'⑥別表(その他)'!$B52,'⑤ラインリスト(その他)'!$D:$D,'⑥別表(その他)'!V$47)","v":0},{"$f":"COUNTIFS('⑤ラインリスト(その他)'!$B:$B,'⑥別表(その他)'!$A$53,'⑤ラインリスト(その他)'!$E:$E,'⑥別表(その他)'!$B52,'⑤ラインリスト(その他)'!$D:$D,'⑥別表(その他)'!W$47)","v":0},{"$f":"SUM(C52:W52)","v":0}]
[null,"女",{"$f":"COUNTIFS('⑤ラインリスト(その他)'!$B:$B,'⑥別表(その他)'!$A$53,'⑤ラインリスト(その他)'!$E:$E,'⑥別表(その他)'!$B53,'⑤ラインリスト(その他)'!$D:$D,'⑥別表(その他)'!C$47)","v":0},{"$f":"COUNTIFS('⑤ラインリスト(その他)'!$B:$B,'⑥別表(その他)'!$A$53,'⑤ラインリスト(その他)'!$E:$E,'⑥別表(その他)'!$B53,'⑤ラインリスト(その他)'!$D:$D,'⑥別表(その他)'!D$47)","v":0},{"$f":"COUNTIFS('⑤ラインリスト(その他)'!$B:$B,'⑥別表(その他)'!$A$53,'⑤ラインリスト(その他)'!$E:$E,'⑥別表(その他)'!$B53,'⑤ラインリスト(その他)'!$D:$D,'⑥別表(その他)'!E$47)","v":0},{"$f":"COUNTIFS('⑤ラインリスト(その他)'!$B:$B,'⑥別表(その他)'!$A$53,'⑤ラインリスト(その他)'!$E:$E,'⑥別表(その他)'!$B53,'⑤ラインリスト(その他)'!$D:$D,'⑥別表(その他)'!F$47)","v":0},{"$f":"COUNTIFS('⑤ラインリスト(その他)'!$B:$B,'⑥別表(その他)'!$A$53,'⑤ラインリスト(その他)'!$E:$E,'⑥別表(その他)'!$B53,'⑤ラインリスト(その他)'!$D:$D,'⑥別表(その他)'!G$47)","v":0},{"$f":"COUNTIFS('⑤ラインリスト(その他)'!$B:$B,'⑥別表(その他)'!$A$53,'⑤ラインリスト(その他)'!$E:$E,'⑥別表(その他)'!$B53,'⑤ラインリスト(その他)'!$D:$D,'⑥別表(その他)'!H$47)","v":0},{"$f":"COUNTIFS('⑤ラインリスト(その他)'!$B:$B,'⑥別表(その他)'!$A$53,'⑤ラインリスト(その他)'!$E:$E,'⑥別表(その他)'!$B53,'⑤ラインリスト(その他)'!$D:$D,'⑥別表(その他)'!I$47)","v":0},{"$f":"COUNTIFS('⑤ラインリスト(その他)'!$B:$B,'⑥別表(その他)'!$A$53,'⑤ラインリスト(その他)'!$E:$E,'⑥別表(その他)'!$B53,'⑤ラインリスト(その他)'!$D:$D,'⑥別表(その他)'!J$47)","v":0},{"$f":"COUNTIFS('⑤ラインリスト(その他)'!$B:$B,'⑥別表(その他)'!$A$53,'⑤ラインリスト(その他)'!$E:$E,'⑥別表(その他)'!$B53,'⑤ラインリスト(その他)'!$D:$D,'⑥別表(その他)'!K$47)","v":0},{"$f":"COUNTIFS('⑤ラインリスト(その他)'!$B:$B,'⑥別表(その他)'!$A$53,'⑤ラインリスト(その他)'!$E:$E,'⑥別表(その他)'!$B53,'⑤ラインリスト(その他)'!$D:$D,'⑥別表(その他)'!L$47)","v":0},{"$f":"COUNTIFS('⑤ラインリスト(その他)'!$B:$B,'⑥別表(その他)'!$A$53,'⑤ラインリスト(その他)'!$E:$E,'⑥別表(その他)'!$B53,'⑤ラインリスト(その他)'!$D:$D,'⑥別表(その他)'!M$47)","v":0},{"$f":"COUNTIFS('⑤ラインリスト(その他)'!$B:$B,'⑥別表(その他)'!$A$53,'⑤ラインリスト(その他)'!$E:$E,'⑥別表(その他)'!$B53,'⑤ラインリスト(その他)'!$D:$D,'⑥別表(その他)'!N$47)","v":0},{"$f":"COUNTIFS('⑤ラインリスト(その他)'!$B:$B,'⑥別表(その他)'!$A$53,'⑤ラインリスト(その他)'!$E:$E,'⑥別表(その他)'!$B53,'⑤ラインリスト(その他)'!$D:$D,'⑥別表(その他)'!O$47)","v":0},{"$f":"COUNTIFS('⑤ラインリスト(その他)'!$B:$B,'⑥別表(その他)'!$A$53,'⑤ラインリスト(その他)'!$E:$E,'⑥別表(その他)'!$B53,'⑤ラインリスト(その他)'!$D:$D,'⑥別表(その他)'!P$47)","v":0},{"$f":"COUNTIFS('⑤ラインリスト(その他)'!$B:$B,'⑥別表(その他)'!$A$53,'⑤ラインリスト(その他)'!$E:$E,'⑥別表(その他)'!$B53,'⑤ラインリスト(その他)'!$D:$D,'⑥別表(その他)'!Q$47)","v":0},{"$f":"COUNTIFS('⑤ラインリスト(その他)'!$B:$B,'⑥別表(その他)'!$A$53,'⑤ラインリスト(その他)'!$E:$E,'⑥別表(その他)'!$B53,'⑤ラインリスト(その他)'!$D:$D,'⑥別表(その他)'!R$47)","v":0},{"$f":"COUNTIFS('⑤ラインリスト(その他)'!$B:$B,'⑥別表(その他)'!$A$53,'⑤ラインリスト(その他)'!$E:$E,'⑥別表(その他)'!$B53,'⑤ラインリスト(その他)'!$D:$D,'⑥別表(その他)'!S$47)","v":0},{"$f":"COUNTIFS('⑤ラインリスト(その他)'!$B:$B,'⑥別表(その他)'!$A$53,'⑤ラインリスト(その他)'!$E:$E,'⑥別表(その他)'!$B53,'⑤ラインリスト(その他)'!$D:$D,'⑥別表(その他)'!T$47)","v":0},{"$f":"COUNTIFS('⑤ラインリスト(その他)'!$B:$B,'⑥別表(その他)'!$A$53,'⑤ラインリスト(その他)'!$E:$E,'⑥別表(その他)'!$B53,'⑤ラインリスト(その他)'!$D:$D,'⑥別表(その他)'!U$47)","v":0},{"$f":"COUNTIFS('⑤ラインリスト(その他)'!$B:$B,'⑥別表(その他)'!$A$53,'⑤ラインリスト(その他)'!$E:$E,'⑥別表(その他)'!$B53,'⑤ラインリスト(その他)'!$D:$D,'⑥別表(その他)'!V$47)","v":0},{"$f":"COUNTIFS('⑤ラインリスト(その他)'!$B:$B,'⑥別表(その他)'!$A$53,'⑤ラインリスト(その他)'!$E:$E,'⑥別表(その他)'!$B53,'⑤ラインリスト(その他)'!$D:$D,'⑥別表(その他)'!W$47)","v":0},{"$f":"SUM(C53:W53)","v":0}]
[null,"計",{"$f":"SUM(C52:C53)","v":0},{"$f":"SUM(D52:D53)","v":0},0,0,0,0,0,0,0,0,0,{"$f":"SUM(N52:N53)","v":0},{"$f":"SUM(O52:O53)","v":0},0,0,0,0,0,0,0,{"$f":"SUM(W52:W53)","v":0},{"$f":"SUM(X52:X53)","v":0}]

{"sheet":"⑦別表(手入力用)","index":3,"n_rows":51,"n_cols":24,"rows_kept":51,"cut":false,"hidden":false,"merged":[[39,0,41,0],[42,0,44,0],[48,0,50,0]]}
["所属・発症日別発生状況"]
["所属／日付",null,null,null,null,null,null,null,null,null,null,null,null,null,null,null,null,null,null,null,null,"計"]
[null,null,null,null,null,null,null,null,null,null,null,null,null,null,null,null,null,null,null,null,null,{"$f":"SUM(B3:P3)","v":0}]
[null,null,null,null,null,null,null,null,null,null,null,null,null,null,null,null,null,null,null,null,null,{"$f":"SUM(B4:P4)","v":0}]
[null,null,null,null,null,null,null,null,null,null,null,null,null,null,null,null,null,null,null,null,null,0]
[null,null,null,null,null,null,null,null,null,null,null,null,null,null,null,null,null,null,null,null,null,0]
[null,null,null,null,null,null,null,null,null,null,null,null,null,null,null,null,null,null,null,null,null,0]
[null,null,null,null,null,null,null,null,null,null,null,null,null,null,null,null,null,null,null,null,null,0]
[null,null,null,null,null,null,null,null,null,null,null,null,null,null,null,null,null,null,null,null,null,0]
[null,null,null,null,null,null,null,null,null,null,null,null,null,null,null,null,null,null,null,null,null,0]
[null,null,null,null,null,null,null,null,null,null,null,null,null,null,null,null,null,null,null,null,null,0]
[null,null,null,null,null,null,null,null,null,null,null,null,null,null,null,null,null,null,null,null,null,0]
["計",{"$f":"SUM(B3:B12)","v":0},{"$f":"SUM(C3:C12)","v":0},0,0,0,0,0,0,0,0,0,0,0,0,0,0,0,0,0,0,0]
[]
["流行曲線（エピカーブ）"]
[]
[]
[]
[]
[]
[]
[]
[]
[]
[]
[]
[]
[]
[]
[]
[]
[]
[]
[]
[]
[]
[]
["年代・性別発生状況",null,0,10,20,30,40,50,60,70,80,90,100]
["区分","性別／年代","10歳未満","10歳代","20歳代","30歳代","40歳代","50歳代","60歳代","70歳代","80歳代","90歳代","100歳代","計"]
[null,"男",null,null,null,null,null,null,null,null,null,null,null,{"$f":"SUM(C40:M40)","v":0}]
[null,"女",null,null,null,null,null,null,null,null,null,null,null,{"$f":"SUM(C41:M41)","v":0}]
[null,"計",{"$f":"SUM(C40:C41)","v":0},{"$f":"SUM(D40:D41)","v":0},0,0,0,0,0,0,0,0,0,0]
[null,"男",null,null,null,null,null,null,null,null,null,null,null,{"$f":"SUM(C43:M43)","v":0}]
[null,"女",null,null,null,null,null,null,null,null,null,null,null,{"$f":"SUM(C44:M44)","v":0}]
[null,"計",{"$f":"SUM(C43:C44)","v":0},{"$f":"SUM(D43:D44)","v":0},0,0,0,0,0,0,0,0,0,0]
[]
["年齢・性別発生状況 ",null,0,1,2,3,4,5,6,7,8,9,10,11,12,13,14,15,16,17,18,19,20]
["区分","性別／年代","0歳","1歳","2歳","3歳","4歳","5歳","6歳","7歳","8歳","9歳","10歳","11歳","12歳","13歳","14歳","15歳","16歳","17歳","18歳","19歳","20歳","計"]
[null,"男",null,null,null,null,null,null,null,null,null,null,null,null,null,null,null,null,null,null,null,null,null,{"$f":"SUM(C49:W49)","v":0}]
[null,"女",null,null,null,null,null,null,null,null,null,null,null,null,null,null,null,null,null,null,null,null,null,{"$f":"SUM(C50:W50)","v":0}]
[null,"計",{"$f":"SUM(C49:C50)","v":0},{"$f":"SUM(D49:D50)","v":0},0,0,0,0,0,0,0,0,0,{"$f":"SUM(N49:N50)","v":0},{"$f":"SUM(O49:O50)","v":0},0,0,0,0,0,0,0,{"$f":"SUM(W49:W50)","v":0},{"$f":"SUM(X49:X50)","v":0}]